BEGIN:VCALENDAR
VERSION:2.0
PRODID:-//Unser Taunus - ECPv6.15.20//NONSGML v1.0//EN
CALSCALE:GREGORIAN
METHOD:PUBLISH
X-WR-CALNAME:Unser Taunus
X-ORIGINAL-URL:https://unser-taunus.de
X-WR-CALDESC:Veranstaltungen für Unser Taunus
REFRESH-INTERVAL;VALUE=DURATION:PT1H
X-Robots-Tag:noindex
X-PUBLISHED-TTL:PT1H
BEGIN:VTIMEZONE
TZID:Europe/Berlin
BEGIN:DAYLIGHT
TZOFFSETFROM:+0100
TZOFFSETTO:+0200
TZNAME:CEST
DTSTART:20250330T010000
END:DAYLIGHT
BEGIN:STANDARD
TZOFFSETFROM:+0200
TZOFFSETTO:+0100
TZNAME:CET
DTSTART:20251026T010000
END:STANDARD
BEGIN:DAYLIGHT
TZOFFSETFROM:+0100
TZOFFSETTO:+0200
TZNAME:CEST
DTSTART:20260329T010000
END:DAYLIGHT
BEGIN:STANDARD
TZOFFSETFROM:+0200
TZOFFSETTO:+0100
TZNAME:CET
DTSTART:20261025T010000
END:STANDARD
BEGIN:DAYLIGHT
TZOFFSETFROM:+0100
TZOFFSETTO:+0200
TZNAME:CEST
DTSTART:20270328T010000
END:DAYLIGHT
BEGIN:STANDARD
TZOFFSETFROM:+0200
TZOFFSETTO:+0100
TZNAME:CET
DTSTART:20271031T010000
END:STANDARD
END:VTIMEZONE
BEGIN:VEVENT
DTSTART;TZID=Europe/Berlin:20260414T080000
DTEND;TZID=Europe/Berlin:20260414T170000
DTSTAMP:20260420T223915
CREATED:20260414T121320Z
LAST-MODIFIED:20260414T121347Z
UID:10015768-1776153600-1776186000@unser-taunus.de
SUMMARY:Abschiedsgottesdienst für frühverstorbene Kinder (Sternenkinder)
DESCRIPTION:Der Tod von Kindern\, auch der frühe Tod während der Schwangerschaft\, ist für viele Eltern nur sehr schwer zu begreifen und zu bewältigen. Selten finden sich Möglichkeiten\, der Trauer angemessenen Ausdruck zu verleihen. Das tun seit vielen Jahren katholische und evangelische Seelsorgerinnen im Hochtaunuskreis. Sie feiern gemeinsam mit den Familien einen Abschiedsgottesdienst für die frühverstorbenen Kinder. Zu diesen Gottesdiensten\, sind auch Familien eingeladen\, für die dieser Tod manchmal schon Jahre zurückliegt. Denn lange Jahre war die Trauer um die verstorbenen Kinder ein Tabuthema. \nIm Anschluss an die Trauerfeier werden die Kinder\, die in den letzten Monaten in den Hochtaunus-Kliniken verstorben sind\, im Grab beigesetzt. Margit Bonnet\, evangelische Pfarrerin und Sandra Anker\, katholische Seelsorgerin\, begleiten die Eltern sowie ihre Angehörigen und gestalten die Trauerfeier und die Beisetzung.
URL:https://unser-taunus.de/veranstaltung/abschiedsgottesdienst-fuer-fruehverstorbene-kinder/
LOCATION:Waldfriedhof Bad Homburg\, Friedberger Straße 70\, Bad Homburg
ATTACH;FMTTYPE=image/jpeg:https://unser-taunus.de/wp-content/uploads/2026/04/Trauerfeier_Sternenkinder.jpg
END:VEVENT
END:VCALENDAR