BEGIN:VCALENDAR
VERSION:2.0
PRODID:-//Unser Taunus - ECPv6.15.20//NONSGML v1.0//EN
CALSCALE:GREGORIAN
METHOD:PUBLISH
X-WR-CALNAME:Unser Taunus
X-ORIGINAL-URL:https://unser-taunus.de
X-WR-CALDESC:Veranstaltungen für Unser Taunus
REFRESH-INTERVAL;VALUE=DURATION:PT1H
X-Robots-Tag:noindex
X-PUBLISHED-TTL:PT1H
BEGIN:VTIMEZONE
TZID:Europe/Berlin
BEGIN:DAYLIGHT
TZOFFSETFROM:+0100
TZOFFSETTO:+0200
TZNAME:CEST
DTSTART:20250330T010000
END:DAYLIGHT
BEGIN:STANDARD
TZOFFSETFROM:+0200
TZOFFSETTO:+0100
TZNAME:CET
DTSTART:20251026T010000
END:STANDARD
BEGIN:DAYLIGHT
TZOFFSETFROM:+0100
TZOFFSETTO:+0200
TZNAME:CEST
DTSTART:20260329T010000
END:DAYLIGHT
BEGIN:STANDARD
TZOFFSETFROM:+0200
TZOFFSETTO:+0100
TZNAME:CET
DTSTART:20261025T010000
END:STANDARD
BEGIN:DAYLIGHT
TZOFFSETFROM:+0100
TZOFFSETTO:+0200
TZNAME:CEST
DTSTART:20270328T010000
END:DAYLIGHT
BEGIN:STANDARD
TZOFFSETFROM:+0200
TZOFFSETTO:+0100
TZNAME:CET
DTSTART:20271031T010000
END:STANDARD
END:VTIMEZONE
BEGIN:VEVENT
DTSTART;TZID=Europe/Berlin:20260502T110000
DTEND;TZID=Europe/Berlin:20260502T123000
DTSTAMP:20260421T080401
CREATED:20260420T071316Z
LAST-MODIFIED:20260420T071949Z
UID:10015835-1777719600-1777725000@unser-taunus.de
SUMMARY:Mit dem Briefträger durch die Usinger Bahnhofstraße
DESCRIPTION:Zum Tag der Städtebauförderung am 9. Mai 2026 schlüpft Stadtführer Andreas Seifert in die Rolle eines früheren Briefträgers der Deutschen Bundespost und nimmt die Gäste auf seiner „Zustelltour“ durch die Bahnhofstraße mit auf eine interessante Themenführung.\nIn den frühen 1980er Jahren hat Seifert seine Berufskarriere beim Postamt in Usingen gestartet und war tatsächlich in diesen Jahren auch als Briefzusteller in der Bahnhofstraße unterwegs. \nDie Teilnahme an der Stadtführung ist kostenlos\, aus Planungsgründen wird aber um eine vorherige Anmeldung per E-Mail an stadtfuehrung@usingen.de oder telefonisch unter 06081/1024-1012 gebeten.
URL:https://unser-taunus.de/veranstaltung/mit-dem-brieftraeger-durch-die-usinger-bahnhofstrasse/
LOCATION:Volksbank Usingen\, Wilhelmjstraße\, Usingen
CATEGORIES:Führung
ATTACH;FMTTYPE=image/jpeg:https://unser-taunus.de/wp-content/uploads/2026/04/Briefzusteller-Postbote-Usingen-e1776669399419.jpg
END:VEVENT
BEGIN:VEVENT
DTSTART;TZID=Europe/Berlin:20260502T150000
DTEND;TZID=Europe/Berlin:20260502T163000
DTSTAMP:20260421T080401
CREATED:20260420T072158Z
LAST-MODIFIED:20260420T072158Z
UID:10015837-1777734000-1777739400@unser-taunus.de
SUMMARY:Mit dem Briefträger durch die Usinger Bahnhofstraße
DESCRIPTION:Zum Tag der Städtebauförderung am 9. Mai 2026 schlüpft Stadtführer Andreas Seifert in die Rolle eines früheren Briefträgers der Deutschen Bundespost und nimmt die Gäste auf seiner „Zustelltour“ durch die Bahnhofstraße mit auf eine interessante Themenführung.\nIn den frühen 1980er Jahren hat Seifert seine Berufskarriere beim Postamt in Usingen gestartet und war tatsächlich in diesen Jahren auch als Briefzusteller in der Bahnhofstraße unterwegs. \nDie Teilnahme an der Stadtführung ist kostenlos\, aus Planungsgründen wird aber um eine vorherige Anmeldung per E-Mail an stadtfuehrung@usingen.de oder telefonisch unter 06081/1024-1012 gebeten.
URL:https://unser-taunus.de/veranstaltung/mit-dem-brieftraeger-durch-die-usinger-bahnhofstrasse-2/
LOCATION:Volksbank Usingen\, Wilhelmjstraße\, Usingen
CATEGORIES:Führung
ATTACH;FMTTYPE=image/jpeg:https://unser-taunus.de/wp-content/uploads/2026/04/Briefzusteller-Postbote-Usingen-e1776669399419.jpg
END:VEVENT
END:VCALENDAR