BEGIN:VCALENDAR
VERSION:2.0
PRODID:-//Unser Taunus - ECPv6.15.20//NONSGML v1.0//EN
CALSCALE:GREGORIAN
METHOD:PUBLISH
X-WR-CALNAME:Unser Taunus
X-ORIGINAL-URL:https://unser-taunus.de
X-WR-CALDESC:Veranstaltungen für Unser Taunus
REFRESH-INTERVAL;VALUE=DURATION:PT1H
X-Robots-Tag:noindex
X-PUBLISHED-TTL:PT1H
BEGIN:VTIMEZONE
TZID:Europe/Berlin
BEGIN:DAYLIGHT
TZOFFSETFROM:+0100
TZOFFSETTO:+0200
TZNAME:CEST
DTSTART:20250330T010000
END:DAYLIGHT
BEGIN:STANDARD
TZOFFSETFROM:+0200
TZOFFSETTO:+0100
TZNAME:CET
DTSTART:20251026T010000
END:STANDARD
BEGIN:DAYLIGHT
TZOFFSETFROM:+0100
TZOFFSETTO:+0200
TZNAME:CEST
DTSTART:20260329T010000
END:DAYLIGHT
BEGIN:STANDARD
TZOFFSETFROM:+0200
TZOFFSETTO:+0100
TZNAME:CET
DTSTART:20261025T010000
END:STANDARD
BEGIN:DAYLIGHT
TZOFFSETFROM:+0100
TZOFFSETTO:+0200
TZNAME:CEST
DTSTART:20270328T010000
END:DAYLIGHT
BEGIN:STANDARD
TZOFFSETFROM:+0200
TZOFFSETTO:+0100
TZNAME:CET
DTSTART:20271031T010000
END:STANDARD
END:VTIMEZONE
BEGIN:VEVENT
DTSTART;TZID=Europe/Berlin:20260430T170000
DTEND;TZID=Europe/Berlin:20260430T182000
DTSTAMP:20260421T080401
CREATED:20260420T103421Z
LAST-MODIFIED:20260420T103442Z
UID:10015850-1777568400-1777573200@unser-taunus.de
SUMMARY:Hexenwalk "Hexenprozesse in Flörsheim am Main"
DESCRIPTION:Grundlage für die zirka 70 bis 80 Minuten dauernde Führung zu verschiedenen Stationen in der Flörsheimer Altstadt ist der Audio-Walk „Hexen (er)finden“\, der im Mai 2024 vorgestellt wurde. Das Event fand im Kontext eines vom Kulturfonds Frankfurt RheinMain als Teil der Reihe „SiteSightSigns“ geförderten Projektes mit ortsspezifischen Arbeiten statt. \nErinnert wird dabei an die Geschehnisse vor 400 Jahren. In Flörsheim und Umgebung wurden zwischen 1595 und 1630 mehr als 70 Personen hingerichtet\, wobei das Jahr 1616 als Schwerpunkt gilt. Dank regionaler Geschichtsaufarbeitung sind heute viele Geschichten von als „Hexen“ oder „Zauberer“ getöteten Menschen bekannt. \nDie Teilnahme an der Führung ist kostenlos. Um Anmeldung über das Buchungsprogramm im Veranstaltungskalender unter https://eveeno.com/hexenwalk2026 wird gebeten. \nDer Audio-Walk „Hexen (er)finden“ ist abrufbar über die städtische Homepage unter www.floersheim-main.de/Freizeit-Kultur/Hexen-er-finden/. \n 
URL:https://unser-taunus.de/veranstaltung/hexenwalk-hexenprozesse-in-floersheim-am-main/
LOCATION:Treffpunkt Mehrgenerationentreff\, Rathausplatz 6\, Flörsheim am Main
CATEGORIES:Führung
END:VEVENT
END:VCALENDAR