BEGIN:VCALENDAR
VERSION:2.0
PRODID:-//Unser Taunus - ECPv6.15.20//NONSGML v1.0//EN
CALSCALE:GREGORIAN
METHOD:PUBLISH
X-WR-CALNAME:Unser Taunus
X-ORIGINAL-URL:https://unser-taunus.de
X-WR-CALDESC:Veranstaltungen für Unser Taunus
REFRESH-INTERVAL;VALUE=DURATION:PT1H
X-Robots-Tag:noindex
X-PUBLISHED-TTL:PT1H
BEGIN:VTIMEZONE
TZID:Europe/Berlin
BEGIN:DAYLIGHT
TZOFFSETFROM:+0100
TZOFFSETTO:+0200
TZNAME:CEST
DTSTART:20250330T010000
END:DAYLIGHT
BEGIN:STANDARD
TZOFFSETFROM:+0200
TZOFFSETTO:+0100
TZNAME:CET
DTSTART:20251026T010000
END:STANDARD
BEGIN:DAYLIGHT
TZOFFSETFROM:+0100
TZOFFSETTO:+0200
TZNAME:CEST
DTSTART:20260329T010000
END:DAYLIGHT
BEGIN:STANDARD
TZOFFSETFROM:+0200
TZOFFSETTO:+0100
TZNAME:CET
DTSTART:20261025T010000
END:STANDARD
BEGIN:DAYLIGHT
TZOFFSETFROM:+0100
TZOFFSETTO:+0200
TZNAME:CEST
DTSTART:20270328T010000
END:DAYLIGHT
BEGIN:STANDARD
TZOFFSETFROM:+0200
TZOFFSETTO:+0100
TZNAME:CET
DTSTART:20271031T010000
END:STANDARD
END:VTIMEZONE
BEGIN:VEVENT
DTSTART;TZID=Europe/Berlin:20260418T140000
DTEND;TZID=Europe/Berlin:20260418T170000
DTSTAMP:20260421T040334
CREATED:20260320T124308Z
LAST-MODIFIED:20260320T124308Z
UID:10013875-1776520800-1776531600@unser-taunus.de
SUMMARY:Frühlingserlebnis im Theißtal
DESCRIPTION:Unter der Leitung von Martin Uhrich erkunden die Teilnehmenden die vielfältige Landschaft des Tals\, das auch „Deus“ genannt wird. Das Theißtal ist bekannt für seine abwechslungsreichen Lebensräume mit Wiesen\, Sümpfen und Erlen-Eschen-Wäldern entlang des Theißbachs. Als Naturerholungsgebiet sowie Natur- und FFH-Schutzgebiet bietet es zahlreichen seltenen Pflanzen- und Tierarten einen Lebensraum. Auf der etwa elf Kilometer langen Rundwanderung lernen die Teilnehmenden typische Frühlingspflanzen kennen und erhalten Einblicke in die besondere Tier- und Pflanzenwelt des Gebiets. \nDie rund dreistündige Tour verläuft überwiegend auf gut begehbaren Wegen\, teilweise auch über unbefestigte Abschnitte. Festes Schuhwerk wird empfohlen. Die Wanderung eignet sich für Familien\, Gruppen und naturinteressierte Teilnehmende. \nTreffpunkt ist am Parkplatz Theißtal in Niedernhausen; der genaue Treffpunkt wird nach der Anmeldung bestätigt. \nDie Teilnahme kostet 8 Euro für Erwachsene und 4 Euro für Jugendliche von 13 bis 17 Jahren\, Kinder bis 12 Jahre können kostenfrei teilnehmen. Hunde können nach vorheriger Absprache mitgebracht werden. Eine Anmeldung ist bis zum 14. April 2026 per E-Mail an m.uhrich@natura-explorata.de erforderlich; dabei sollten Name\, Telefonnummer und die Anzahl der teilnehmenden Personen angegeben werden.
URL:https://unser-taunus.de/veranstaltung/fruehlingserlebnis-im-theisstal/
LOCATION:siehe Veranstaltungstext
CATEGORIES:Wanderung
END:VEVENT
BEGIN:VEVENT
DTSTART;TZID=Europe/Berlin:20260417T160000
DTEND;TZID=Europe/Berlin:20260417T180000
DTSTAMP:20260421T040334
CREATED:20260107T085823Z
LAST-MODIFIED:20260107T085823Z
UID:10013388-1776441600-1776448800@unser-taunus.de
SUMMARY:Neubürgertreffen Eppstein
DESCRIPTION:Mit geselligen Treffen auf dem Wochenmarkt will die Stadt den Neubürger:innen beim Start behilflich sein. Da sich die Eppsteiner:innen in vielen Vereinen und Stiftungen\, bei der Feuerwehr oder in den Kirchengemeinden treffen und engagieren\, sind diese ebenso eingeladen\, um Kontakte herstellen zu können. Die Stadt Eppstein veranstaltet drei Mal im Jahr ein Neubürgertreffen. Diese Treffen haben einen lockeren und ungezwungenen Rahmen. \nEine Anmeldung ist nicht erforderlich. Die Neubürgertreffen finden auf dem Eppsteiner Wochenmarkt (Gottfriedplatz an der Talkirche in der Eppsteiner Altstadt) statt. \nDas erste Neubürgertreffen findet am Freitag\, 17. April\, das zweite Treffen am Freitag\, 19. Juni\, und das dritte Treffen am Freitag\, 18. September 2026\, jeweils von 16 bis 18 Uhr statt. Im Jahr 2025 sind 816 Menschen nach Eppstein neu hinzugezogen\, 316 sind innerhalb der Stadtteile umgezogen. \nFoto (Stadt Eppstein): Sonnenuntergang am Gottfriedplatz in der Eppsteiner Altstadt: hier findet jeden Freitag der Wochenmarkt statt und an drei Terminen zusätzlich ein Neubürgertreffen.
URL:https://unser-taunus.de/veranstaltung/neubuergertreffen-eppstein/2026-04-17/
LOCATION:siehe Veranstaltungstext
CATEGORIES:Führung
ATTACH;FMTTYPE=image/jpeg:https://unser-taunus.de/wp-content/uploads/2026/01/Foto-Stadt-Eppstein-Sonnenuntergang-am-Gottfriedplatz.jpg
END:VEVENT
BEGIN:VEVENT
DTSTART;TZID=Europe/Berlin:20260328T190000
DTEND;TZID=Europe/Berlin:20260328T190000
DTSTAMP:20260421T040334
CREATED:20260320T111154Z
LAST-MODIFIED:20260320T111531Z
UID:10013867-1774724400-1774724400@unser-taunus.de
SUMMARY:Musiknacht Bad Homburg
DESCRIPTION:Das Besondere: Nicht klassische Konzertarenen stehen im Mittelpunkt\, sondern ausgewählte Locations – Bars\, Cafés\, Hotels und kulturelle Orte –\, die für eine Nacht zu Bühnen werden. Genau diese Nähe zwischen Künstlern und Publikum macht den unverwechselbaren Charakter der Musiknacht aus. \nDie legendären Rodgau Monotones spielen in der Englischen Kirche ihr erstes Unplugged-Konzert – reduziert\, intensiv und so nahbar wie selten zuvor. Ein Konzert\, das die Essenz dieser Band in den Mittelpunkt stellt und für viele Besucher:innen zu einem der emotionalsten Momente des Abends werden dürfte. \nEin Ticket ermöglicht den Zugang zu allen teilnehmenden Locations. So entsteht eine ganz persönliche Route durch die Nacht – von Konzert zu Konzert\, von Atmosphäre zu Atmosphäre.\nTickets und weitere Informationen unter: www.bh-Nacht.de
URL:https://unser-taunus.de/veranstaltung/musiknacht-bad-homburg/
LOCATION:siehe Veranstaltungstext
CATEGORIES:Musik-Festival
END:VEVENT
BEGIN:VEVENT
DTSTART;TZID=Europe/Berlin:20260321T083000
DTEND;TZID=Europe/Berlin:20260321T110000
DTSTAMP:20260421T040334
CREATED:20260314T132846Z
LAST-MODIFIED:20260314T133753Z
UID:10013839-1774081800-1774090800@unser-taunus.de
SUMMARY:Tag des Waldes "Waldspaziergang mit Dr. Wolfgang Ehmke"
DESCRIPTION:Der Taunussteiner Stadtwald soll sich allmählich zu einem „Dauerwald“ entwickeln\, um dem Klimawandel zu trotzen und dabei hochrentabel zu werden. Dazu wird er in ein „gemischtes Mehrgenerationenhaus“ umgewandelt\, das vielfältigen Nutzen bringt. Die Teilnehmer:innen erhalten auch Einblicke in zwei Naturwaldzellen und lernen die Stimmen der Waldvögel kennen. \nTreffpunkt ist am Parkplatz „Im Gründchen“ am Friedhof Taunusstein-Watzhahn.  Die Teilnahme ist kostenlos\, eine Spende für den Wald wird erbeten. Eine Anmeldung ist nicht erforderlich. \nBild: Alte Buchen im Frühlingsgrün (Foto: Wolfgang Ehmke)
URL:https://unser-taunus.de/veranstaltung/tag-des-waldes/
LOCATION:siehe Veranstaltungstext
CATEGORIES:Spaziergang
ATTACH;FMTTYPE=image/png:https://unser-taunus.de/wp-content/uploads/2026/03/waldfoto.png
END:VEVENT
END:VCALENDAR