BEGIN:VCALENDAR
VERSION:2.0
PRODID:-//Unser Taunus - ECPv6.15.20//NONSGML v1.0//EN
CALSCALE:GREGORIAN
METHOD:PUBLISH
X-WR-CALNAME:Unser Taunus
X-ORIGINAL-URL:https://unser-taunus.de
X-WR-CALDESC:Veranstaltungen für Unser Taunus
REFRESH-INTERVAL;VALUE=DURATION:PT1H
X-Robots-Tag:noindex
X-PUBLISHED-TTL:PT1H
BEGIN:VTIMEZONE
TZID:Europe/Berlin
BEGIN:DAYLIGHT
TZOFFSETFROM:+0100
TZOFFSETTO:+0200
TZNAME:CEST
DTSTART:20250330T010000
END:DAYLIGHT
BEGIN:STANDARD
TZOFFSETFROM:+0200
TZOFFSETTO:+0100
TZNAME:CET
DTSTART:20251026T010000
END:STANDARD
BEGIN:DAYLIGHT
TZOFFSETFROM:+0100
TZOFFSETTO:+0200
TZNAME:CEST
DTSTART:20260329T010000
END:DAYLIGHT
BEGIN:STANDARD
TZOFFSETFROM:+0200
TZOFFSETTO:+0100
TZNAME:CET
DTSTART:20261025T010000
END:STANDARD
BEGIN:DAYLIGHT
TZOFFSETFROM:+0100
TZOFFSETTO:+0200
TZNAME:CEST
DTSTART:20270328T010000
END:DAYLIGHT
BEGIN:STANDARD
TZOFFSETFROM:+0200
TZOFFSETTO:+0100
TZNAME:CET
DTSTART:20271031T010000
END:STANDARD
END:VTIMEZONE
BEGIN:VEVENT
DTSTART;TZID=Europe/Berlin:20260326T190000
DTEND;TZID=Europe/Berlin:20260326T190000
DTSTAMP:20260421T040355
CREATED:20260308T091613Z
LAST-MODIFIED:20260308T091613Z
UID:10013770-1774551600-1774551600@unser-taunus.de
SUMMARY:Judith Jakob "Die Nachtigall in meinem Garten schweigt"
DESCRIPTION:Musikalisch gelesene Hommage an Mascha Kaléko.\nAuf einer lyrisch-musikalischen Reise zeichnet die bekannte Schauspielerin und Sängerin Judith Jakob das Leben der vor 50 Jahren verstorbenen Dichterin Mascha Kaléko anhand von Gedichten\, Tagebuchaufzeichnungen und Vertonungen nach. Musikalisch unterstützt wird sie am Klavier von Joachim Jezewski. \nEintritt: 15 Euro (Vorverkauf über Violas Bücherwurm und Grüne Apotheke\, Kelkheim)
URL:https://unser-taunus.de/veranstaltung/judith-jakob-die-nachtigall-in-meinem-garten-schweigt/
LOCATION:Rathaus Kelkheim\, Gagernring 6\, Kelkheim (Taunus)\, 65779
CATEGORIES:Musik,Vortrag
END:VEVENT
BEGIN:VEVENT
DTSTART;TZID=Europe/Berlin:20260325T180000
DTEND;TZID=Europe/Berlin:20260325T180000
DTSTAMP:20260421T040355
CREATED:20260308T091137Z
LAST-MODIFIED:20260308T091137Z
UID:10013769-1774461600-1774461600@unser-taunus.de
SUMMARY:Menschliches Bedürfnis und tägliches Geschäft
DESCRIPTION:Die Geschichte der Toilettenkultur\nAlle müssen mal – aber kaum jemand spricht darüber. Dabei steckt hinter der Toilette eine überraschend spannende Geschichte! Wie verrichtete man sein „Geschäft“ in der Antike? Was hatte das Mittelalter mit Nachttöpfen zu tun? Und warum waren Sauberkeit und Hygiene lange ein Luxus? Der Archäologe Sascha Piffko nimmt Sie mit auf eine kurzweilige Reise durch die Kulturgeschichte der Toilette – informativ\, humorvoll und mit erstaunlichen Einblicken in unseren Alltag von gestern und heute. \nEintritt: 10 Euro
URL:https://unser-taunus.de/veranstaltung/menschliches-beduerfnis-und-taegliches-geschaeft/
LOCATION:Rathaus Kelkheim\, Gagernring 6\, Kelkheim (Taunus)\, 65779
CATEGORIES:Vortrag
END:VEVENT
END:VCALENDAR