BEGIN:VCALENDAR
VERSION:2.0
PRODID:-//Unser Taunus - ECPv6.15.20//NONSGML v1.0//EN
CALSCALE:GREGORIAN
METHOD:PUBLISH
X-ORIGINAL-URL:https://unser-taunus.de
X-WR-CALDESC:Veranstaltungen für Unser Taunus
REFRESH-INTERVAL;VALUE=DURATION:PT1H
X-Robots-Tag:noindex
X-PUBLISHED-TTL:PT1H
BEGIN:VTIMEZONE
TZID:Europe/Berlin
BEGIN:DAYLIGHT
TZOFFSETFROM:+0100
TZOFFSETTO:+0200
TZNAME:CEST
DTSTART:20250330T010000
END:DAYLIGHT
BEGIN:STANDARD
TZOFFSETFROM:+0200
TZOFFSETTO:+0100
TZNAME:CET
DTSTART:20251026T010000
END:STANDARD
BEGIN:DAYLIGHT
TZOFFSETFROM:+0100
TZOFFSETTO:+0200
TZNAME:CEST
DTSTART:20260329T010000
END:DAYLIGHT
BEGIN:STANDARD
TZOFFSETFROM:+0200
TZOFFSETTO:+0100
TZNAME:CET
DTSTART:20261025T010000
END:STANDARD
BEGIN:DAYLIGHT
TZOFFSETFROM:+0100
TZOFFSETTO:+0200
TZNAME:CEST
DTSTART:20270328T010000
END:DAYLIGHT
BEGIN:STANDARD
TZOFFSETFROM:+0200
TZOFFSETTO:+0100
TZNAME:CET
DTSTART:20271031T010000
END:STANDARD
END:VTIMEZONE
BEGIN:VEVENT
DTSTART;TZID=Europe/Berlin:20260321T110000
DTEND;TZID=Europe/Berlin:20260321T150000
DTSTAMP:20260420T075005
CREATED:20260308T085241Z
LAST-MODIFIED:20260308T085241Z
UID:10013765-1774090800-1774105200@unser-taunus.de
SUMMARY:Aktionstag mit Menschenkette zur internationalen Woche
DESCRIPTION:Die Besucher:innen erleben acht Aktions- und Informationsstände zum Mitmachen rund um die Themen Vielfalt und Zusammenhalt\, unter anderem ein Freiluft-Atelier\, Flower-Power-Finger-Painting\, Informationen und Erfahrungsaustausche sowie ein Glücksrad mit kleinen Preisen. Eröffnet wird der Aktionstag um 11.30 Uhr durch Stadtrat Tobias Ottaviani und die Cheerleader der Sentinels. Musikalisch begleitet wird die Veranstaltung vom internationalen Walking Duo „Evas Apfel“\, das mit Songs auf Italienisch\, Spanisch\, Finnisch\, Englisch\, Französisch und Deutsch für gute Stimmung und eine lebendige Atmosphäre in der Stadt sorgt. Außerdem wird der Zauberkünstler Tatto Ota die Besucher:innen mitten im Geschehen mit interaktiver Zauberkunst überraschen. \nDen Höhepunkt den Aktionstags markiert die Menschenkette\, die ab um 14.30 Uhr unter dem Motto „Hand in Hand gegen Rassismus“ vom Marktplatz aus durch die Innenstadt ziehen wird. \nDas vollständige Programm unter https://www.bad-homburg.de/gegen-rassismus
URL:https://unser-taunus.de/veranstaltung/aktionstag-mit-menschenkette-zur-internationalen-woche/
LOCATION:Marktplatz Bad Homburg\, Bad Homburg
CATEGORIES:Fest,Informationsveranstaltung
END:VEVENT
END:VCALENDAR