BEGIN:VCALENDAR
VERSION:2.0
PRODID:-//Unser Taunus - ECPv6.15.20//NONSGML v1.0//EN
CALSCALE:GREGORIAN
METHOD:PUBLISH
X-WR-CALNAME:Unser Taunus
X-ORIGINAL-URL:https://unser-taunus.de
X-WR-CALDESC:Veranstaltungen für Unser Taunus
REFRESH-INTERVAL;VALUE=DURATION:PT1H
X-Robots-Tag:noindex
X-PUBLISHED-TTL:PT1H
BEGIN:VTIMEZONE
TZID:Europe/Berlin
BEGIN:DAYLIGHT
TZOFFSETFROM:+0100
TZOFFSETTO:+0200
TZNAME:CEST
DTSTART:20250330T010000
END:DAYLIGHT
BEGIN:STANDARD
TZOFFSETFROM:+0200
TZOFFSETTO:+0100
TZNAME:CET
DTSTART:20251026T010000
END:STANDARD
BEGIN:DAYLIGHT
TZOFFSETFROM:+0100
TZOFFSETTO:+0200
TZNAME:CEST
DTSTART:20260329T010000
END:DAYLIGHT
BEGIN:STANDARD
TZOFFSETFROM:+0200
TZOFFSETTO:+0100
TZNAME:CET
DTSTART:20261025T010000
END:STANDARD
BEGIN:DAYLIGHT
TZOFFSETFROM:+0100
TZOFFSETTO:+0200
TZNAME:CEST
DTSTART:20270328T010000
END:DAYLIGHT
BEGIN:STANDARD
TZOFFSETFROM:+0200
TZOFFSETTO:+0100
TZNAME:CET
DTSTART:20271031T010000
END:STANDARD
END:VTIMEZONE
BEGIN:VEVENT
DTSTART;TZID=Europe/Berlin:20260324T153000
DTEND;TZID=Europe/Berlin:20260324T153000
DTSTAMP:20260420T035145
CREATED:20260309T145107Z
LAST-MODIFIED:20260309T145107Z
UID:10013810-1774366200-1774366200@unser-taunus.de
SUMMARY:Kindertheater „Bär hat es schwer“
DESCRIPTION:Kinder ab vier Jahre \nDas Figurentheater „Pantaleon“ aus München präsentiert „eine ausgeschlafene Geschichte vom Müde-Sein“. Der Herbst ist fast vorbei. Bär kommt gerade aus dem Wald und hat einen schweren Bauch vom Fressen – die letzten Nüsse und Pilze. Und schwere Beine hat er auch. Er freut sich auf sein weiches Winterschlafbett. Es ist soweit. Er plumpst auf sein Bett\, streckt sich\, räkelt sich und rollt sich zusammen. Doch was ist das? Da pikst und kneift etwas! So kann der Bär nicht schlafen. Und wenn er nicht schlafen kann\, kriegt er schlechte Laune. Wie soll das bloß weitergehen? \nDer Eintritt kostet 4\,50 Euro. Tickets sind über https://www.adticket.de/Baer-hat-es-schwer/Floersheim-am-Main-Kulturscheune/24-03-2026_15-30.html erhältlich\, hierbei fällt eine Servicegebühr an. Einen Vorverkauf gibt es auch im Stadtbüro\, Rathausplatz 3\, Telefon: 06145 955-110\, E-Mail: stadtbuero@floersheim-main.de. \n 
URL:https://unser-taunus.de/veranstaltung/kindertheater-baer-hat-es-schwer/
LOCATION:Kulturscheune Flörsheim\, Rathausplatz 5\, Navi: Bahnhofstraße 6\,\, \, Flörsheim am Main\, 65439
CATEGORIES:Figurentheater,Kinder
END:VEVENT
BEGIN:VEVENT
DTSTART;TZID=Europe/Berlin:20260320T180000
DTEND;TZID=Europe/Berlin:20260320T180000
DTSTAMP:20260420T035145
CREATED:20260309T142859Z
LAST-MODIFIED:20260309T142859Z
UID:10013806-1774029600-1774029600@unser-taunus.de
SUMMARY:FAT Schau*Spiel „35 Jahre Wiedervereinigung. Mauerfall und vieles mehr“
DESCRIPTION:Darin wird den Geschichten und Erlebnissen Einzelner ebenso nachgegangen wie der Themenbehandlung in Literatur und Kunst. Einzelne Protagonisten werden spotartig beleuchtet und deren Geschichten vorgestellt. \nAnlass für das Event ist der Tag der Demokratiegeschichte\, der am 18. März unter der Schirmherrschaft von Bundespräsident Frank-Walter Steinmeier erstmals begangen wird. In diesem Kontext finden zwischen 18. und 22. März zahlreiche Veranstaltungen in ganz Deutschland statt. \nDer Eintritt kostet 5 Euro. Eine Anmeldung über das Buchungsprogramm im Veranstaltungskalender unter https://eveeno.com/Demokratie20032026 ist erforderlich.
URL:https://unser-taunus.de/veranstaltung/fat-schauspiel-35-jahre-wiedervereinigung-mauerfall-und-vieles-mehr/
LOCATION:Kulturscheune Flörsheim\, Rathausplatz 5\, Navi: Bahnhofstraße 6\,\, \, Flörsheim am Main\, 65439
CATEGORIES:Kulturveranstaltung
END:VEVENT
END:VCALENDAR