BEGIN:VCALENDAR
VERSION:2.0
PRODID:-//Unser Taunus - ECPv6.15.20//NONSGML v1.0//EN
CALSCALE:GREGORIAN
METHOD:PUBLISH
X-ORIGINAL-URL:https://unser-taunus.de
X-WR-CALDESC:Veranstaltungen für Unser Taunus
REFRESH-INTERVAL;VALUE=DURATION:PT1H
X-Robots-Tag:noindex
X-PUBLISHED-TTL:PT1H
BEGIN:VTIMEZONE
TZID:Europe/Berlin
BEGIN:DAYLIGHT
TZOFFSETFROM:+0100
TZOFFSETTO:+0200
TZNAME:CEST
DTSTART:20250330T010000
END:DAYLIGHT
BEGIN:STANDARD
TZOFFSETFROM:+0200
TZOFFSETTO:+0100
TZNAME:CET
DTSTART:20251026T010000
END:STANDARD
BEGIN:DAYLIGHT
TZOFFSETFROM:+0100
TZOFFSETTO:+0200
TZNAME:CEST
DTSTART:20260329T010000
END:DAYLIGHT
BEGIN:STANDARD
TZOFFSETFROM:+0200
TZOFFSETTO:+0100
TZNAME:CET
DTSTART:20261025T010000
END:STANDARD
BEGIN:DAYLIGHT
TZOFFSETFROM:+0100
TZOFFSETTO:+0200
TZNAME:CEST
DTSTART:20270328T010000
END:DAYLIGHT
BEGIN:STANDARD
TZOFFSETFROM:+0200
TZOFFSETTO:+0100
TZNAME:CET
DTSTART:20271031T010000
END:STANDARD
END:VTIMEZONE
BEGIN:VEVENT
DTSTART;TZID=Europe/Berlin:20260426T170000
DTEND;TZID=Europe/Berlin:20260426T170000
DTSTAMP:20260421T042317
CREATED:20260420T085328Z
LAST-MODIFIED:20260420T085411Z
UID:10015847-1777222800-1777222800@unser-taunus.de
SUMMARY:Kammermusikabend mit dem Orloff-Duo "Klangwelten der Romantik"
DESCRIPTION:Das Orloff-Duo\, Geigerin Julia Gniza und Pianistin Tatiana Orloff\, präsentiert Werke von Robert Schumann\, Johannes Brahms und Beethovens berühmte „Kreuzer-Sonate“ \nVorverkauf: Kur- und Stadtinformation oder auf ADticket.de
URL:https://unser-taunus.de/veranstaltung/kammermusikabend-mit-dem-orloff-duo-klangwelten-der-romantik/
LOCATION:Haus der Begegnung (HdB)\, Bischof-Kaller-Straße 3\, Königstein\, 61462
CATEGORIES:Konzert
ORGANIZER;CN="Kur- und Stadtinformation K%C3%B6nigstein":MAILTO:info@koenigstein.de
END:VEVENT
END:VCALENDAR