BEGIN:VCALENDAR
VERSION:2.0
PRODID:-//Unser Taunus - ECPv6.15.20//NONSGML v1.0//EN
CALSCALE:GREGORIAN
METHOD:PUBLISH
X-WR-CALNAME:Unser Taunus
X-ORIGINAL-URL:https://unser-taunus.de
X-WR-CALDESC:Veranstaltungen für Unser Taunus
REFRESH-INTERVAL;VALUE=DURATION:PT1H
X-Robots-Tag:noindex
X-PUBLISHED-TTL:PT1H
BEGIN:VTIMEZONE
TZID:Europe/Berlin
BEGIN:DAYLIGHT
TZOFFSETFROM:+0100
TZOFFSETTO:+0200
TZNAME:CEST
DTSTART:20250330T010000
END:DAYLIGHT
BEGIN:STANDARD
TZOFFSETFROM:+0200
TZOFFSETTO:+0100
TZNAME:CET
DTSTART:20251026T010000
END:STANDARD
BEGIN:DAYLIGHT
TZOFFSETFROM:+0100
TZOFFSETTO:+0200
TZNAME:CEST
DTSTART:20260329T010000
END:DAYLIGHT
BEGIN:STANDARD
TZOFFSETFROM:+0200
TZOFFSETTO:+0100
TZNAME:CET
DTSTART:20261025T010000
END:STANDARD
BEGIN:DAYLIGHT
TZOFFSETFROM:+0100
TZOFFSETTO:+0200
TZNAME:CEST
DTSTART:20270328T010000
END:DAYLIGHT
BEGIN:STANDARD
TZOFFSETFROM:+0200
TZOFFSETTO:+0100
TZNAME:CET
DTSTART:20271031T010000
END:STANDARD
END:VTIMEZONE
BEGIN:VEVENT
DTSTART;TZID=Europe/Berlin:20260418T200000
DTEND;TZID=Europe/Berlin:20260418T223000
DTSTAMP:20260421T095126
CREATED:20260416T123100Z
LAST-MODIFIED:20260416T123100Z
UID:10015816-1776542400-1776551400@unser-taunus.de
SUMMARY:Woody Feldmann "was isses sen?"
DESCRIPTION:Die kleine Frau mit großer Klappe\, ist landauf landab als schlagfertige Comedian & Impro-Queen bekannt. \nEintritt 37\,00 Euro (ermäßigt 32\,00 Euro)\, Abendkasse 42\,00 Euro. Ticket-VVK: Kur- und Stadtinformation Königstein.
URL:https://unser-taunus.de/veranstaltung/woody-feldmann-was-isses-sen/
LOCATION:Haus der Begegnung (HdB)\, Bischof-Kaller-Straße 3\, Königstein\, 61462
CATEGORIES:Kabarett/Comedy
ORGANIZER;CN="Stadt K%C3%B6nigstein im Taunus":MAILTO:info@koenigstein.de
END:VEVENT
BEGIN:VEVENT
DTSTART;TZID=Europe/Berlin:20260329T180000
DTEND;TZID=Europe/Berlin:20260329T180000
DTSTAMP:20260421T095126
CREATED:20260321T105806Z
LAST-MODIFIED:20260321T105806Z
UID:10013881-1774807200-1774807200@unser-taunus.de
SUMMARY:Königsteiner Lions Benefizkonzert
DESCRIPTION:mit dem Neuen Orchester Kronberg und dem Bass-Bariton Derrick Ballard. \nGespielt wird eine italienische Gala mit Werken von Ottorino Respighi\, Felix Mendelssohn Bartholdy\, Johann Strauss sowie Arien von Gaetano Donizetti\, Wolfgang Amadeus Mozart und Giuseppe Verdi. \nKarten: 25 Euro (Schüler/Studenten/Azubis: 10 Euro)\nVorverkauf: Kur- und Stadtinformation\, Buchhandlung Millennium oder reservix.de 
URL:https://unser-taunus.de/veranstaltung/koenigsteiner-lions-benefizkonzert/
LOCATION:Haus der Begegnung (HdB)\, Bischof-Kaller-Straße 3\, Königstein\, 61462
CATEGORIES:Konzert
END:VEVENT
BEGIN:VEVENT
DTSTART;TZID=Europe/Berlin:20260322T170000
DTEND;TZID=Europe/Berlin:20260322T170000
DTSTAMP:20260421T095126
CREATED:20260317T151828Z
LAST-MODIFIED:20260317T151828Z
UID:10013865-1774198800-1774198800@unser-taunus.de
SUMMARY:80 Jahre Hessische Verfassung
DESCRIPTION:Lautet das Hauptthema dieser Film- und Podiumsveranstaltung aller historischen Vereine Königsteins. Gäste: Hessische Staatsministerin Heike Hofmann & Professor Dr. Martin Will\, Spezialist der Hessischen Verfassung.
URL:https://unser-taunus.de/veranstaltung/80-jahre-hessische-verfassung/
LOCATION:Haus der Begegnung (HdB)\, Bischof-Kaller-Straße 3\, Königstein\, 61462
CATEGORIES:Informationsveranstaltung
END:VEVENT
BEGIN:VEVENT
DTSTART;TZID=Europe/Berlin:20260321T170000
DTEND;TZID=Europe/Berlin:20260321T170000
DTSTAMP:20260421T095126
CREATED:20260317T151001Z
LAST-MODIFIED:20260317T151001Z
UID:10013864-1774112400-1774112400@unser-taunus.de
SUMMARY:Raymonda-Ballettvorstellung
DESCRIPTION:Aufführung von den Schülerinnen der Königstein Ballettschule unter der künstlerischen Leitung der Ballettlehrer Andreea Radu & Cornel Bercea. \nVVK: Kur- und Stadtinformation\, Hauptstraße 13a oder über www.reservix.de.
URL:https://unser-taunus.de/veranstaltung/raymonda-ballettvorstellung/2026-03-21/2/
LOCATION:Haus der Begegnung (HdB)\, Bischof-Kaller-Straße 3\, Königstein\, 61462
CATEGORIES:Ballett
END:VEVENT
BEGIN:VEVENT
DTSTART;TZID=Europe/Berlin:20260321T110000
DTEND;TZID=Europe/Berlin:20260321T110000
DTSTAMP:20260421T095126
CREATED:20260317T151001Z
LAST-MODIFIED:20260317T151001Z
UID:10013863-1774090800-1774090800@unser-taunus.de
SUMMARY:Raymonda-Ballettvorstellung
DESCRIPTION:Aufführung von den Schülerinnen der Königstein Ballettschule unter der künstlerischen Leitung der Ballettlehrer Andreea Radu & Cornel Bercea. \nVVK: Kur- und Stadtinformation\, Hauptstraße 13a oder über www.reservix.de.
URL:https://unser-taunus.de/veranstaltung/raymonda-ballettvorstellung/2026-03-21/1/
LOCATION:Haus der Begegnung (HdB)\, Bischof-Kaller-Straße 3\, Königstein\, 61462
CATEGORIES:Ballett
END:VEVENT
END:VCALENDAR