BEGIN:VCALENDAR
VERSION:2.0
PRODID:-//Unser Taunus - ECPv6.15.20//NONSGML v1.0//EN
CALSCALE:GREGORIAN
METHOD:PUBLISH
X-ORIGINAL-URL:https://unser-taunus.de
X-WR-CALDESC:Veranstaltungen für Unser Taunus
REFRESH-INTERVAL;VALUE=DURATION:PT1H
X-Robots-Tag:noindex
X-PUBLISHED-TTL:PT1H
BEGIN:VTIMEZONE
TZID:Europe/Berlin
BEGIN:DAYLIGHT
TZOFFSETFROM:+0100
TZOFFSETTO:+0200
TZNAME:CEST
DTSTART:20250330T010000
END:DAYLIGHT
BEGIN:STANDARD
TZOFFSETFROM:+0200
TZOFFSETTO:+0100
TZNAME:CET
DTSTART:20251026T010000
END:STANDARD
BEGIN:DAYLIGHT
TZOFFSETFROM:+0100
TZOFFSETTO:+0200
TZNAME:CEST
DTSTART:20260329T010000
END:DAYLIGHT
BEGIN:STANDARD
TZOFFSETFROM:+0200
TZOFFSETTO:+0100
TZNAME:CET
DTSTART:20261025T010000
END:STANDARD
BEGIN:DAYLIGHT
TZOFFSETFROM:+0100
TZOFFSETTO:+0200
TZNAME:CEST
DTSTART:20270328T010000
END:DAYLIGHT
BEGIN:STANDARD
TZOFFSETFROM:+0200
TZOFFSETTO:+0100
TZNAME:CET
DTSTART:20271031T010000
END:STANDARD
END:VTIMEZONE
BEGIN:VEVENT
DTSTART;TZID=Europe/Berlin:20260425T170000
DTEND;TZID=Europe/Berlin:20260425T170000
DTSTAMP:20260421T185347
CREATED:20260309T150915Z
LAST-MODIFIED:20260309T151117Z
UID:10013813-1777136400-1777136400@unser-taunus.de
SUMMARY:Der Rettershof anno 1792
DESCRIPTION:Das historische französische „1er Régiment d’Artillerie à pied“ aus dem Jahr 1792 schlägt wieder sein Lager auf dem Rettershof-Gelände auf – gleich oberhalb des Schlosshotels. Die Soldaten schlafen im Freiluft-Lager\, kochen ihr Essen in Erdöfen und tragen originalgetreue Uniformen. Christoph Haarmann\, Sergeant der Artillerie\, der Historiker Sebastian von Kunitzki und der Fischbacher Dr. Mark Scheibe werden wieder in kurzweiliger Art die Geschichte rund um Fischbach zur Zeit der Französischen Revolution auferstehen lassen. \nVorführung der historischen Gribeauval-Kanone\, anschließend Führung durch das Lager (in deutscher und französischer Sprache)
URL:https://unser-taunus.de/veranstaltung/der-rettershof-anno-1792/
LOCATION:Gutshof des Rettershofs\, Rettershof 4\, Kelkheim (Taunus)\, 65779
CATEGORIES:Führung
END:VEVENT
BEGIN:VEVENT
DTSTART;TZID=Europe/Berlin:20260426T110000
DTEND;TZID=Europe/Berlin:20260426T110000
DTSTAMP:20260421T185347
CREATED:20260309T151043Z
LAST-MODIFIED:20260309T151043Z
UID:10013814-1777201200-1777201200@unser-taunus.de
SUMMARY:Der Rettershof anno 1792
DESCRIPTION:Das historische französische „1er Régiment d’Artillerie à pied“ aus dem Jahr 1792 schlägt wieder sein Lager auf dem Rettershof-Gelände auf – gleich oberhalb des Schlosshotels. Die Soldaten schlafen im Freiluft-Lager\, kochen ihr Essen in Erdöfen und tragen originalgetreue Uniformen. Christoph Haarmann\, Sergeant der Artillerie\, der Historiker Sebastian von Kunitzki und der Fischbacher Dr. Mark Scheibe werden wieder in kurzweiliger Art die Geschichte rund um Fischbach zur Zeit der Französischen Revolution auferstehen lassen. \nVorführung der historischen Gribeauval-Kanone
URL:https://unser-taunus.de/veranstaltung/der-rettershof-anno-1792-2/
LOCATION:Gutshof des Rettershofs\, Rettershof 4\, Kelkheim (Taunus)\, 65779
CATEGORIES:Führung
END:VEVENT
BEGIN:VEVENT
DTSTART;TZID=Europe/Berlin:20260628T180000
DTEND;TZID=Europe/Berlin:20260628T200000
DTSTAMP:20260421T185347
CREATED:20251105T165030Z
LAST-MODIFIED:20251105T165030Z
UID:10012985-1782669600-1782676800@unser-taunus.de
SUMMARY:Annett Louisan "22 Jahre Bohème"
DESCRIPTION:Bis heute hat die Sängerin weit mehr als eine Million Tonträger verkauft\, ebenso viele Menschen mit ihren Konzerten begeistert und zutiefst berührt. Ihr Debüt „Bohème“ ist das Werk\, mit dem 2004 alles begann – allein dieses Album verkaufte sich mehr als 500.000 Mal\, katapultierte die bis dahin unbekannte Sängerin in den Pop-Olymp und war der Grundstein einer einzigartigen\, bis heute anhaltenden Karriere. \nBei Unwetter Verlegung in die Stadthalle Kelkheim \nEintritt: 45 Euro (freie Platzwahl)\nVorverkauf:\n– Buchhandlung Tolksdorf\, Frankenallee 6\, Kelkheim (Taunus)\, Tel. 06195 – 902200\n– Violas Bücherwurm\, Bahnstraße 13\, Kelkheim (Taunus)\, Tel. 06195 – 900818\n– Online: www.frankfurtticket.de \nBild: 20JahreBohème_Foto_MathiasBothor
URL:https://unser-taunus.de/veranstaltung/annett-louisan-22-jahre-boheme/
LOCATION:Gutshof des Rettershofs\, Rettershof 4\, Kelkheim (Taunus)\, 65779
CATEGORIES:Chanson
ATTACH;FMTTYPE=image/jpeg:https://unser-taunus.de/wp-content/uploads/2025/11/20JahreBoheme_Foto_MathiasBothor.jpg
END:VEVENT
END:VCALENDAR