BEGIN:VCALENDAR
VERSION:2.0
PRODID:-//Unser Taunus - ECPv6.15.20//NONSGML v1.0//EN
CALSCALE:GREGORIAN
METHOD:PUBLISH
X-WR-CALNAME:Unser Taunus
X-ORIGINAL-URL:https://unser-taunus.de
X-WR-CALDESC:Veranstaltungen für Unser Taunus
REFRESH-INTERVAL;VALUE=DURATION:PT1H
X-Robots-Tag:noindex
X-PUBLISHED-TTL:PT1H
BEGIN:VTIMEZONE
TZID:Europe/Berlin
BEGIN:DAYLIGHT
TZOFFSETFROM:+0100
TZOFFSETTO:+0200
TZNAME:CEST
DTSTART:20250330T010000
END:DAYLIGHT
BEGIN:STANDARD
TZOFFSETFROM:+0200
TZOFFSETTO:+0100
TZNAME:CET
DTSTART:20251026T010000
END:STANDARD
BEGIN:DAYLIGHT
TZOFFSETFROM:+0100
TZOFFSETTO:+0200
TZNAME:CEST
DTSTART:20260329T010000
END:DAYLIGHT
BEGIN:STANDARD
TZOFFSETFROM:+0200
TZOFFSETTO:+0100
TZNAME:CET
DTSTART:20261025T010000
END:STANDARD
BEGIN:DAYLIGHT
TZOFFSETFROM:+0100
TZOFFSETTO:+0200
TZNAME:CEST
DTSTART:20270328T010000
END:DAYLIGHT
BEGIN:STANDARD
TZOFFSETFROM:+0200
TZOFFSETTO:+0100
TZNAME:CET
DTSTART:20271031T010000
END:STANDARD
END:VTIMEZONE
BEGIN:VEVENT
DTSTART;TZID=Europe/Berlin:20260419T190000
DTEND;TZID=Europe/Berlin:20260419T190000
DTSTAMP:20260421T180441
CREATED:20260324T103522Z
LAST-MODIFIED:20260324T103522Z
UID:10013884-1776625200-1776625200@unser-taunus.de
SUMMARY:Frank Fischer „GAGALAND“
DESCRIPTION:Die Welt steht Kopf. Um sie zu verstehen\, könnte man versuchen\, einen Handstand zu machen. Oder man bleibt aufrecht sitzen und begegnet dem ganzen Irrsinn mit Humor. Frank Fischer nimmt die Gäste mit auf die Reise durch ein sonderbares Land\, dessen schräge Bewohner er mit exakter Beobachtung und feinem Humor lebendig werden lässt. Er trifft auf finstere Franken\, kesse Ruhrpottlerinnen und kommt beim Hören einer sächsischen Radiowerbung dem Wahnsinn schon sehr nahe. Daneben ergründet er die drängenden Fragen unserer Zeit: Sollten wir der Künstlichen Intelligenz eine Chance geben\, wenn es mit der natürlichen nicht klappt? Warum machen wir im Alter unbeabsichtigt Geräusche? Und wieso sollten wir skeptisch sein\, wenn Fernzüge plötzlich pünktlich sind? Mühelos schlägt er den Bogen von großer Weltpolitik zu den Absurditäten des Alltags. Denn egal ob Präsidenten\, Promis oder die Verkäuferin hinter der Wursttheke – sie alle sind Teil von GAGALAND. \nDer Eintritt kostet im Vorverkauf 22\,50 Euro\, an der Abendkasse 30 Euro. Karten sind unter www.adticket.de/Frank-Fischer-Gagaland/Floersheim-am-Main-Floersheimer-Keller/19-04-2026_18-00.html erhältlich\, hierbei fällt eine Servicegebühr an. Einen Vorverkauf gibt es auch im Stadtbüro\, Rathausplatz 3\, Telefon 06145 955-110\, E-Mail: stadtbuero@floersheim-main.de.
URL:https://unser-taunus.de/veranstaltung/frank-fischer-gagaland/
LOCATION:Flörsheimer Keller\, Hauptstraße 43\, Flörsheim\, 65439
CATEGORIES:Kabarett/Comedy
END:VEVENT
BEGIN:VEVENT
DTSTART;TZID=Europe/Berlin:20260418T200000
DTEND;TZID=Europe/Berlin:20260418T223000
DTSTAMP:20260421T180441
CREATED:20260320T125720Z
LAST-MODIFIED:20260320T125720Z
UID:10013877-1776542400-1776551400@unser-taunus.de
SUMMARY:Die Schwerdtfegers  „Very Best Of“
DESCRIPTION:Als Brigitte und Herbert Schwerdtfeger präsentieren Gabriele Meyer und Jörg Zick seit zwei Jahrzehnten hessisches Kabarett der Extraklasse. Das typische hessische Ehepaar\, so man es fast jeden Tag im typisch deutschen Urlaub auf Mallorca\, im Supermarkt oder beim Sommerfest der Gartenkolonie treffen könnte\, ist hemmungslos\, geschwätzig und ständig streitend. Brigitte\, mit hochgesteckter weißer Mähne und pflaumengroßen Gewichten an den Ohren\, und Herbert\, mit schmalem Hütchen\, schreiend bunter Krawatte und dem schäbigen Aktentäschchen\, erzählen im Rahmen ihres „Very Best Of“-Programms noch einmal die beliebtesten Geschichten aus 25 Ehejahren. \nDer Eintritt kostet im Vorverkauf 22\,50 Euro\, an der Abendkasse 30 Euro. Karten sind unter https://www.adticket.de/Die-Schwerdtfegers-Very-Best-Of/Floersheim-am-Main-Floersheimer-Keller/18-04-2026_20-00.html erhältlich\, hierbei fällt eine Servicegebühr an. Einen Vorverkauf gibt es auch im Stadtbüro\, Rathausplatz 3\, Telefon 06145 955-110\, E-Mail: stadtbuero@floersheim-main.de.
URL:https://unser-taunus.de/veranstaltung/die-schwerdtfegers-very-best-of/
LOCATION:Flörsheimer Keller\, Hauptstraße 43\, Flörsheim\, 65439
CATEGORIES:Kabarett/Comedy
END:VEVENT
BEGIN:VEVENT
DTSTART;TZID=Europe/Berlin:20260411T200000
DTEND;TZID=Europe/Berlin:20260411T220000
DTSTAMP:20260421T180441
CREATED:20260320T113122Z
LAST-MODIFIED:20260320T113122Z
UID:10013869-1775937600-1775944800@unser-taunus.de
SUMMARY:Christine Schütze „Also\, mir wär sie zu dünn“
DESCRIPTION:Es lebe der Unterschied! Zum Beispiel der zwischen sagen und meinen\, wissen und verstehen oder der zwischen weiblichen und männlichen (vermeintlichen) Idealtypen. Im Mittelpunkt der Beschäftigung mit der Liebe und den Worten\, dem Alltag und den Sprachhülsen stehen wir alle\, die deutsche Sprache und was man mit der wortgewaltig und klavierstimmig so alles machen kann. Auch plattdeutsch spielt eine kleine Rolle. Klingt rätselhaft? Stimmt – klärt sich aber im Lauf des amüsanten und intelligenten Musik-Kabarettabends. \nDer Eintritt kostet im Vorverkauf 22\,50 Euro\, an der Abendkasse 30 Euro. Karten sind über https://www.adticket.de/Christine-Schuetze-Also-mir-waer-sie-zu-duenn…/Floersheim-am-Main-Floersheimer-Keller/11-04-2026_20-00.html erhältlich\, hierbei fällt eine Servicegebühr an. Einen Vorverkauf gibt es auch im Stadtbüro\, Rathausplatz 3\, Telefon 06145 955-110\, E-Mail: stadtbuero@floersheim-main.de.
URL:https://unser-taunus.de/veranstaltung/christine-schuetze-also-mir-waer-sie-zu-duenn/
LOCATION:Flörsheimer Keller\, Hauptstraße 43\, Flörsheim\, 65439
CATEGORIES:Kabarett/Comedy
END:VEVENT
END:VCALENDAR