BEGIN:VCALENDAR
VERSION:2.0
PRODID:-//Unser Taunus - ECPv6.15.20//NONSGML v1.0//EN
CALSCALE:GREGORIAN
METHOD:PUBLISH
X-WR-CALNAME:Unser Taunus
X-ORIGINAL-URL:https://unser-taunus.de
X-WR-CALDESC:Veranstaltungen für Unser Taunus
REFRESH-INTERVAL;VALUE=DURATION:PT1H
X-Robots-Tag:noindex
X-PUBLISHED-TTL:PT1H
BEGIN:VTIMEZONE
TZID:Europe/Berlin
BEGIN:DAYLIGHT
TZOFFSETFROM:+0100
TZOFFSETTO:+0200
TZNAME:CEST
DTSTART:20250330T010000
END:DAYLIGHT
BEGIN:STANDARD
TZOFFSETFROM:+0200
TZOFFSETTO:+0100
TZNAME:CET
DTSTART:20251026T010000
END:STANDARD
BEGIN:DAYLIGHT
TZOFFSETFROM:+0100
TZOFFSETTO:+0200
TZNAME:CEST
DTSTART:20260329T010000
END:DAYLIGHT
BEGIN:STANDARD
TZOFFSETFROM:+0200
TZOFFSETTO:+0100
TZNAME:CET
DTSTART:20261025T010000
END:STANDARD
BEGIN:DAYLIGHT
TZOFFSETFROM:+0100
TZOFFSETTO:+0200
TZNAME:CEST
DTSTART:20270328T010000
END:DAYLIGHT
BEGIN:STANDARD
TZOFFSETFROM:+0200
TZOFFSETTO:+0100
TZNAME:CET
DTSTART:20271031T010000
END:STANDARD
END:VTIMEZONE
BEGIN:VEVENT
DTSTART;TZID=Europe/Berlin:20260322T110000
DTEND;TZID=Europe/Berlin:20260322T160000
DTSTAMP:20260419T233152
CREATED:20260309T063954Z
LAST-MODIFIED:20260309T063954Z
UID:10013786-1774177200-1774195200@unser-taunus.de
SUMMARY:Burgholzhäuser Garagenflohmarkt
DESCRIPTION:Nach dem großen Erfolg vor zwei Jahren kehrt der Garagenflohmarkt in Burgholzhausen zurück: Das Dorf wird wieder zum Treffpunkt für Schatzsucher\, Familien und Flohmarktliebhaber. \nOrganisiert wird die Veranstaltung von den LandFrauen Burgholzhausen mit Unterstützung des TVB Burgholzhausen. Neben vielen Ständen in Garagen und Höfen gibt es diesmal auch zwei zentrale Standplätze – Sauerbornhalle und Alte Schule – mit zusätzlichen Flohmarktständen sowie Essen und Getränken. \nInfos und Laufkarte: landfrauen-burgholzhausen.de \nParken: Parkplatz Peter-Geibel-Straße \n 
URL:https://unser-taunus.de/veranstaltung/burgholzhaeuser-garagenflohmarkt/
LOCATION:Alte Schule Burgholzhausen\, Königsteiner Straße 12\, Friedrichsdorf-Burgholzhausen
ATTACH;FMTTYPE=image/png:https://unser-taunus.de/wp-content/uploads/2026/03/Flohmarkt-Burgholzhausen--e1773038289862.png
END:VEVENT
END:VCALENDAR