BEGIN:VCALENDAR
VERSION:2.0
PRODID:-//Unser Taunus - ECPv6.15.20//NONSGML v1.0//EN
CALSCALE:GREGORIAN
METHOD:PUBLISH
X-WR-CALNAME:Unser Taunus
X-ORIGINAL-URL:https://unser-taunus.de
X-WR-CALDESC:Veranstaltungen für Unser Taunus
REFRESH-INTERVAL;VALUE=DURATION:PT1H
X-Robots-Tag:noindex
X-PUBLISHED-TTL:PT1H
BEGIN:VTIMEZONE
TZID:Europe/Berlin
BEGIN:DAYLIGHT
TZOFFSETFROM:+0100
TZOFFSETTO:+0200
TZNAME:CEST
DTSTART:20250330T010000
END:DAYLIGHT
BEGIN:STANDARD
TZOFFSETFROM:+0200
TZOFFSETTO:+0100
TZNAME:CET
DTSTART:20251026T010000
END:STANDARD
BEGIN:DAYLIGHT
TZOFFSETFROM:+0100
TZOFFSETTO:+0200
TZNAME:CEST
DTSTART:20260329T010000
END:DAYLIGHT
BEGIN:STANDARD
TZOFFSETFROM:+0200
TZOFFSETTO:+0100
TZNAME:CET
DTSTART:20261025T010000
END:STANDARD
BEGIN:DAYLIGHT
TZOFFSETFROM:+0100
TZOFFSETTO:+0200
TZNAME:CEST
DTSTART:20270328T010000
END:DAYLIGHT
BEGIN:STANDARD
TZOFFSETFROM:+0200
TZOFFSETTO:+0100
TZNAME:CET
DTSTART:20271031T010000
END:STANDARD
END:VTIMEZONE
BEGIN:VEVENT
DTSTART;TZID=Europe/Berlin:20260503T100000
DTEND;TZID=Europe/Berlin:20260503T200000
DTSTAMP:20260421T084405
CREATED:20260415T124233Z
LAST-MODIFIED:20260415T124233Z
UID:10015805-1777802400-1777838400@unser-taunus.de
SUMMARY:Frühlingsfest in Bad Schwalbach mit US-Car-Treffen
DESCRIPTION:Die Schaustellerfirma Laux bietet wieder jede Menge Angebote für Spiel und Spaß\, wie Autoscooter und ein Kinderkarussell. Kulinarische Genüsse vom Holzkohlegrill oder süße Crêpes runden das Festensemble auf dem Schmidtbergplatz ab. \nAm Sonntag\, dem 03. Mai\, gibt es eine weitere Attraktion\, denn die „US Car Rebels“ präsentieren ab 10 Uhr ihre Fahrzeuge auf dem benachbarten Wiedbachplatz. Der Eintritt ist frei. \nBild: US-Car Treffen 03.05.2026\, Bad Schwalbach
URL:https://unser-taunus.de/veranstaltung/fruehlingsfest-in-bad-schwalbach-mit-us-car-treffen/2026-05-03/
CATEGORIES:Fest
ATTACH;FMTTYPE=image/jpeg:https://unser-taunus.de/wp-content/uploads/2026/04/US-Car-Treffen-03.05.2026-Bad-Schwalbach-e1776256936177.jpg
END:VEVENT
BEGIN:VEVENT
DTSTART;TZID=Europe/Berlin:20260503T110000
DTEND;TZID=Europe/Berlin:20260503T170000
DTSTAMP:20260421T084405
CREATED:20260420T082755Z
LAST-MODIFIED:20260420T082755Z
UID:10015844-1777806000-1777827600@unser-taunus.de
SUMMARY:Kurparksaisoneröffnung mit Musik\, Walk-Acts und historischen Begegnungen
DESCRIPTION:Musikalisch beginnt der Tag mit dem traditionellen Kurkonzert des Kurensembles Bad Homburg im Musikpavillon. Mit Musik\, Straßentheater und vielen kleinen Überraschungen verspricht die Kurpark-Saisoneröffnung einen abwechslungsreichen Frühlingstag für die ganze Familie. \nZum Download des Programm-Flyers: www.bad-homburg.de/saisoneroeffnung-kurpark
URL:https://unser-taunus.de/veranstaltung/kurparksaisoneroeffnung-mit-musik-walk-acts-und-historischen-begegnungen/
CATEGORIES:Fest
ATTACH;FMTTYPE=image/jpeg:https://unser-taunus.de/wp-content/uploads/2026/04/Kurparkeroeffnung.jpg
END:VEVENT
BEGIN:VEVENT
DTSTART;TZID=Europe/Berlin:20260503T140000
DTEND;TZID=Europe/Berlin:20260503T140000
DTSTAMP:20260421T084405
CREATED:20260122T124858Z
LAST-MODIFIED:20260122T124858Z
UID:10013501-1777816800-1777816800@unser-taunus.de
SUMMARY:Kelten-Sonderführung „Sagen und Mythen“
DESCRIPTION:Das keltische Leben am Fuße des Feldbergs \nDie Kosten betragen sieben Euro pro Person\, keine Anmeldung erforderlich. Festes Schuhwerk wird empfohlen
URL:https://unser-taunus.de/veranstaltung/kelten-sonderfuehrung-sagen-und-mythen/
LOCATION:Treffpunkt Taunusinformationszentrum\, Hohemarkstraße 192\,\, Oberursel\, 61440
CATEGORIES:Führung
END:VEVENT
BEGIN:VEVENT
DTSTART;TZID=Europe/Berlin:20260503T150000
DTEND;TZID=Europe/Berlin:20260503T160000
DTSTAMP:20260421T084405
CREATED:20260307T112632Z
LAST-MODIFIED:20260307T112632Z
UID:10013705-1777820400-1777824000@unser-taunus.de
SUMMARY:Das Farbenrausch Deckenkonzert
DESCRIPTION:Für jede Farbe eine Musik! Vier Lehrerinnen der Musikschule Oberursel spielen ein Konzert für Kinder ab 0 Jahren mit ihren Familien auf der Kuscheldecke – mit Musik von Bach\, Mozart\, Debussy und Pizzolla.\nMitwirkende:\nNatalie Franken – Erzählerin\nBarbara Flechsenhar – Violine\nJulia Ruckelshausen – Cello\nXing Liao – Klavier \nKuscheldecken gibt es vor Ort. \nInstrumentenvorstellung nach dem Konzert. \nEintritt: 15\,00 Euro für Erwachsene\, für Kinder Eintritt frei. Karten unter www.ticket-regional.de/oberursel
URL:https://unser-taunus.de/veranstaltung/das-farbenrausch-deckenkonzert/
LOCATION:Stadthalle Oberursel\, Rathausplatz 2\, Oberursel (Taunus)\, 61440\, Germany
CATEGORIES:Familie
END:VEVENT
BEGIN:VEVENT
DTSTART;TZID=Europe/Berlin:20260503T150000
DTEND;TZID=Europe/Berlin:20260503T170000
DTSTAMP:20260421T084405
CREATED:20260415T100957Z
LAST-MODIFIED:20260415T100957Z
UID:10015781-1777820400-1777827600@unser-taunus.de
SUMMARY:Führung Gustavsgarten
DESCRIPTION:Anmeldung unter gartenlandschaft@bad-homburg.de
URL:https://unser-taunus.de/veranstaltung/fuehrung-gustavsgarten/
LOCATION:Treffpunkt Kleiner Tannenwald\, Eingang Mariannenweg 36 / Kreuzallee\, Bad Homburg
CATEGORIES:Führung
ATTACH;FMTTYPE=image/jpeg:https://unser-taunus.de/wp-content/uploads/2022/04/Gustavsgarten-1.jpg
END:VEVENT
END:VCALENDAR