BEGIN:VCALENDAR
VERSION:2.0
PRODID:-//Unser Taunus - ECPv6.15.20//NONSGML v1.0//EN
CALSCALE:GREGORIAN
METHOD:PUBLISH
X-ORIGINAL-URL:https://unser-taunus.de
X-WR-CALDESC:Veranstaltungen für Unser Taunus
REFRESH-INTERVAL;VALUE=DURATION:PT1H
X-Robots-Tag:noindex
X-PUBLISHED-TTL:PT1H
BEGIN:VTIMEZONE
TZID:Europe/Berlin
BEGIN:DAYLIGHT
TZOFFSETFROM:+0100
TZOFFSETTO:+0200
TZNAME:CEST
DTSTART:20250330T010000
END:DAYLIGHT
BEGIN:STANDARD
TZOFFSETFROM:+0200
TZOFFSETTO:+0100
TZNAME:CET
DTSTART:20251026T010000
END:STANDARD
BEGIN:DAYLIGHT
TZOFFSETFROM:+0100
TZOFFSETTO:+0200
TZNAME:CEST
DTSTART:20260329T010000
END:DAYLIGHT
BEGIN:STANDARD
TZOFFSETFROM:+0200
TZOFFSETTO:+0100
TZNAME:CET
DTSTART:20261025T010000
END:STANDARD
BEGIN:DAYLIGHT
TZOFFSETFROM:+0100
TZOFFSETTO:+0200
TZNAME:CEST
DTSTART:20270328T010000
END:DAYLIGHT
BEGIN:STANDARD
TZOFFSETFROM:+0200
TZOFFSETTO:+0100
TZNAME:CET
DTSTART:20271031T010000
END:STANDARD
END:VTIMEZONE
BEGIN:VEVENT
DTSTART;TZID=Europe/Berlin:20260430T170000
DTEND;TZID=Europe/Berlin:20260430T182000
DTSTAMP:20260421T085013
CREATED:20260420T103421Z
LAST-MODIFIED:20260420T103442Z
UID:10015850-1777568400-1777573200@unser-taunus.de
SUMMARY:Hexenwalk "Hexenprozesse in Flörsheim am Main"
DESCRIPTION:Grundlage für die zirka 70 bis 80 Minuten dauernde Führung zu verschiedenen Stationen in der Flörsheimer Altstadt ist der Audio-Walk „Hexen (er)finden“\, der im Mai 2024 vorgestellt wurde. Das Event fand im Kontext eines vom Kulturfonds Frankfurt RheinMain als Teil der Reihe „SiteSightSigns“ geförderten Projektes mit ortsspezifischen Arbeiten statt. \nErinnert wird dabei an die Geschehnisse vor 400 Jahren. In Flörsheim und Umgebung wurden zwischen 1595 und 1630 mehr als 70 Personen hingerichtet\, wobei das Jahr 1616 als Schwerpunkt gilt. Dank regionaler Geschichtsaufarbeitung sind heute viele Geschichten von als „Hexen“ oder „Zauberer“ getöteten Menschen bekannt. \nDie Teilnahme an der Führung ist kostenlos. Um Anmeldung über das Buchungsprogramm im Veranstaltungskalender unter https://eveeno.com/hexenwalk2026 wird gebeten. \nDer Audio-Walk „Hexen (er)finden“ ist abrufbar über die städtische Homepage unter www.floersheim-main.de/Freizeit-Kultur/Hexen-er-finden/. \n 
URL:https://unser-taunus.de/veranstaltung/hexenwalk-hexenprozesse-in-floersheim-am-main/
LOCATION:Treffpunkt Mehrgenerationentreff\, Rathausplatz 6\, Flörsheim am Main
CATEGORIES:Führung
END:VEVENT
BEGIN:VEVENT
DTSTART;TZID=Europe/Berlin:20260430T190000
DTEND;TZID=Europe/Berlin:20260430T190000
DTSTAMP:20260421T085013
CREATED:20260309T151404Z
LAST-MODIFIED:20260309T151404Z
UID:10013815-1777575600-1777575600@unser-taunus.de
SUMMARY:Dietrich und Sigrid Bender "Erlebnis Weiltal"
DESCRIPTION:Wo können Sie neben dem Roten Mönch auf der Bank sitzen? An welcher Stelle hat man die beste Aussicht über das Tal? Und warum steht eine Eisbärstatue mitten im Wald? Das neue Buch von Dietrich und Sigrid Bender präsentiert „bekannte\, weniger bekannte und vergessene Plätze im Weiltal“. \nEintritt frei
URL:https://unser-taunus.de/veranstaltung/dietrich-und-sigrid-bender-erlebnis-weiltal/
LOCATION:Stadtbibliothek Kelkheim\, Am Marktplatz 1\, Kelkheim
CATEGORIES:Lesung
END:VEVENT
BEGIN:VEVENT
DTSTART;TZID=Europe/Berlin:20260430T201500
DTEND;TZID=Europe/Berlin:20260430T223000
DTSTAMP:20260421T085013
CREATED:20260415T111724Z
LAST-MODIFIED:20260415T111838Z
UID:10015795-1777580100-1777588200@unser-taunus.de
SUMMARY:International Jazz Day "Johanna Summer Trio"
DESCRIPTION:Als besonderes Highlight begrüßt das EschbornK das Johanna Summer Trio. Die junge Pianistin zählt zu den spannendsten Stimmen des aktuellen europäischen Jazz. An der Schwelle zu einer internationalen Karriere begeistert Johanna Summer Publikum\, Presse und Szene gleichermaßen – mit einer Musik\, die Jazztradition\, klassisches Klangdenken und improvisatorische Freiheit auf ganz eigene Weise verbindet. \nJohanna Summer\, vielfach ausgezeichnet und auf renommierten Bühnen präsent\, steht exemplarisch für eine neue Generation deutscher Jazzmusiker*innen\, die stilistische Grenzen überschreitet und international wahrgenommen wird. Diese besondere Energie möchten wir nutzen\, um der sich neu formierenden jungen Jazzszene aus Deutschland eine globale Bühne zu geben. \nEintritt: 15 Euro / 8 Euro (Schüler\, Studenten) HIER \nBild:
URL:https://unser-taunus.de/veranstaltung/international-jazz-day-johanna-summer-trio/
LOCATION:Saal des Eschborn K\, Jahnstraße 3 (Hinterhaus)\, Eschborn
CATEGORIES:Jazz
END:VEVENT
END:VCALENDAR