BEGIN:VCALENDAR
VERSION:2.0
PRODID:-//Unser Taunus - ECPv6.15.20//NONSGML v1.0//EN
CALSCALE:GREGORIAN
METHOD:PUBLISH
X-WR-CALNAME:Unser Taunus
X-ORIGINAL-URL:https://unser-taunus.de
X-WR-CALDESC:Veranstaltungen für Unser Taunus
REFRESH-INTERVAL;VALUE=DURATION:PT1H
X-Robots-Tag:noindex
X-PUBLISHED-TTL:PT1H
BEGIN:VTIMEZONE
TZID:Europe/Berlin
BEGIN:DAYLIGHT
TZOFFSETFROM:+0100
TZOFFSETTO:+0200
TZNAME:CEST
DTSTART:20250330T010000
END:DAYLIGHT
BEGIN:STANDARD
TZOFFSETFROM:+0200
TZOFFSETTO:+0100
TZNAME:CET
DTSTART:20251026T010000
END:STANDARD
BEGIN:DAYLIGHT
TZOFFSETFROM:+0100
TZOFFSETTO:+0200
TZNAME:CEST
DTSTART:20260329T010000
END:DAYLIGHT
BEGIN:STANDARD
TZOFFSETFROM:+0200
TZOFFSETTO:+0100
TZNAME:CET
DTSTART:20261025T010000
END:STANDARD
BEGIN:DAYLIGHT
TZOFFSETFROM:+0100
TZOFFSETTO:+0200
TZNAME:CEST
DTSTART:20270328T010000
END:DAYLIGHT
BEGIN:STANDARD
TZOFFSETFROM:+0200
TZOFFSETTO:+0100
TZNAME:CET
DTSTART:20271031T010000
END:STANDARD
END:VTIMEZONE
BEGIN:VEVENT
DTSTART;TZID=Europe/Berlin:20260424T103000
DTEND;TZID=Europe/Berlin:20260424T133000
DTSTAMP:20260421T084526
CREATED:20260417T110628Z
LAST-MODIFIED:20260417T110628Z
UID:10015824-1777026600-1777037400@unser-taunus.de
SUMMARY:Bücher im Gespräch - Spezial
DESCRIPTION:Im Rahmen des 17. Lesefestivals „Frankfurt liest ein Buch“ stellt das Team der Stadtbücherei anlässlich des 125. Geburtstages der Dichterin Marie Luise Kaschnitz das Buch „Gott und die Welt – Aufzeichnungen aus der Wiesenau“ vor. \nAnmeldungen nimmt die Stadtbücherei über das Buchungsprogramm im Veranstaltungskalender unter https://eveeno.com/BiG240426\, unter Telefon 06145 2025 oder per E-Mail an stadtbuecherei@floersheim-main.de entgegen.
URL:https://unser-taunus.de/veranstaltung/buecher-im-gespraech-spezial/
LOCATION:Stadtbücherei Flörsheim\, Kapellenstraße 1\,\, Flörsheim am Main\, 65439
CATEGORIES:Lesung
END:VEVENT
BEGIN:VEVENT
DTSTART;TZID=Europe/Berlin:20260424T103000
DTEND;TZID=Europe/Berlin:20260424T143000
DTSTAMP:20260421T084526
CREATED:20260415T113031Z
LAST-MODIFIED:20260415T113031Z
UID:10015797-1777026600-1777041000@unser-taunus.de
SUMMARY:Fahrradtouren mit dem Seniorenbeirat Friedrichsdorf
DESCRIPTION:DDie Fahrtstrecke führt über Seulberg\, Hardtwald und Bad Homburg zum Kronenhof. Abgesehen vom Hardtwald ist die Strecke ohne nennenswerte Steigung. Der Rückweg erfolgt evtl. über eine Alternativroute. Die Strecke beträgt ca. 20 Kilometer\, die Fahrtzeit mit Pausen ca. 4 Stunden. \nBei Regenwetter finden die Fahrradtouren nicht statt. \nInteressierte Senior:innen werden gebeten\, sich bis spätestens einen Tag vor der Tour bei Georg Aldinger unter Telefon 06172/489534 anzumelden. \nBild: Fahrrad im Grünen©Bild von slikviditet Pixabay.com
URL:https://unser-taunus.de/veranstaltung/fahrradtouren-mit-dem-seniorenbeirat-friedrichsdorf/
LOCATION:Treffpunkt: Springbrunnen am Houiller Platz\, Friedrichsdorf
CATEGORIES:Vortrag
ATTACH;FMTTYPE=image/jpeg:https://unser-taunus.de/wp-content/uploads/2025/07/Fahrrad-Bild-von-slikviditet-©Pixabay.jpg
END:VEVENT
BEGIN:VEVENT
DTSTART;TZID=Europe/Berlin:20260424T122000
DTEND;TZID=Europe/Berlin:20260424T122000
DTSTAMP:20260421T084526
CREATED:20260307T105605Z
LAST-MODIFIED:20260415T113645Z
UID:10013702-1777033200-1777033200@unser-taunus.de
SUMMARY:60+ und gut zu Fuß
DESCRIPTION:Dieses Mal soll Geschichte mit Wandern verbunden werden. Als erstes steht der Besuch der Gedenkstätte der Zwangsarbeiter in den Alderwerken im Gallus an. Hier wurde 1944 das KZ Katzenbach\nmit 1.600 Zwangsarbeitern in Betrieb genommen. Danach geht es nach kurzer Fahrt mit der Straßenbahn an den Main. Dort führt die Wanderung zunächst auf der Frankfurter Seite am Main entlang\, ehe an der Alten Niederräder Brücke auf das Sachsenhäuser Ufer gewechselt wird. Auf dieser Seite geht es bis zur Friedensbrücke und mit der S-Bahn geht es wieder zurück in Richtung Friedrichsdorf. Die Gesamtstrecke beträgt etwa 9 km. \nGestartet wird am Bahnhof Friedrichsdorf um 12:20 Uhr. Die S-Bahn in Richtung Frankfurt fährt um 12:28 Uhr. Mit dieser fahren die Teilnehmer:innen bis zur Haltestelle Galluswarte.Vor der Besichtigung der Gedenkstätte beseht in der DB-Kantine die Möglichkeit zu einem kleinen Imbiss. Anmeldungen nimmt bis zum 20.04.2026 gerne M. Domjan\, Tel. 06175 940155 mit Angabe\, wo man zusteigt und ob ein Ticket benötigt wird\, entgegen. \nBild: Wanderschuhe©Bild von anncapictures auf Pixabay.com
URL:https://unser-taunus.de/veranstaltung/60-und-gut-zu-fuss/
LOCATION:Treffpunkt Bahnhof Friedrichsdorf\, Bahnstraße 54\, Friedrichsdorf\, 61381
CATEGORIES:Senior:innen,Wanderung
ATTACH;FMTTYPE=image/jpeg:https://unser-taunus.de/wp-content/uploads/2026/03/Wanderschuhe.jpg
END:VEVENT
BEGIN:VEVENT
DTSTART;TZID=Europe/Berlin:20260424T160000
DTEND;TZID=Europe/Berlin:20260424T160000
DTSTAMP:20260421T084527
CREATED:20260309T150442Z
LAST-MODIFIED:20260309T150517Z
UID:10013812-1777046400-1777046400@unser-taunus.de
SUMMARY:Hof Gimbach
DESCRIPTION:Geschichte und Geschichten zu einem Anwesen am Fuße des Staufen\, das bis in das 19. Jahrhundert noch die Johannes-Kapelle und eine Eremitage umfasste. Führung mit Monika Öchsner\, Kunsthistorikerin M.A. \nTeilnahme: 12 Euro (inkl. Apfelweinprobe im romantischen Apfelweinkeller)
URL:https://unser-taunus.de/veranstaltung/hof-gimbach/
LOCATION:Hof Gimbach\, Gimbacher Weg\, Kelkheim
CATEGORIES:Führung
END:VEVENT
BEGIN:VEVENT
DTSTART;TZID=Europe/Berlin:20260424T160000
DTEND;TZID=Europe/Berlin:20260424T170000
DTSTAMP:20260421T084527
CREATED:20260314T131410Z
LAST-MODIFIED:20260314T131410Z
UID:10013837-1777046400-1777050000@unser-taunus.de
SUMMARY:Figurentheater Marmelock  „Ach du Schreck – das Ei ist weg"
DESCRIPTION:In der Legekiste wohnen Feder und die dicke Käthe. Die junge Henne Pünktchen möchte den letzten freien Platz einnehmen. Aber sie darf nur mitmachen\, wenn sie schon mal ein Ei – gelegt hat. Und dann kommt es\, Pünktchens erstes Ei: besonders schön\, groß und mit Punkten. Die Aufregung ist groß! Doch schon am nächsten Morgen ist das Wunderei weg! Es kann nur gestohlen worden sein. Hofhund Holmes geht als Detektiv auf die Suche. Verdächtige gibt es genug! Keiner will es gewesen sein! Die junge Katze Elisa spielt gerne mit Bällen – vielleicht auch mit dem Ei? Oder war Mutterschaf Shirley die Diebin\, um mit dem Ei das Fell ihrer kleinen Frida zu pflegen? Was tat Frosch Kalle\, als er heimlich vom Froschkonzert davonschlich? Oder kommt Sau Rosalinde in der Matschkuhle in Frage? \nDie Welt des Hühnerhofes öffnet sich für ALLE ab 3 Jahren. \nKarten zum Preis von 5\,00 Euro für Kinder und 6\,00 Euro für Erwachsene können reserviert werden unter 06195-74349 oder im Internet: www.kulturgemeinde-kelheim.de.
URL:https://unser-taunus.de/veranstaltung/figurentheater-marmelock-ach-du-schreck-das-ei-ist-weg/
LOCATION:Kulturbahnhof Kelkheim-Münster\, Zeilsheimer Straße 8a\,\, Kelkheim\, 65779
CATEGORIES:Figurentheater,Kinder
ATTACH;FMTTYPE=image/jpeg:https://unser-taunus.de/wp-content/uploads/2026/03/Ach-du-Schreck-das-Ei-e1773494040368.jpg
END:VEVENT
BEGIN:VEVENT
DTSTART;TZID=Europe/Berlin:20260424T170000
DTEND;TZID=Europe/Berlin:20260424T210000
DTSTAMP:20260421T084527
CREATED:20260416T124247Z
LAST-MODIFIED:20260416T124247Z
UID:10015818-1777050000-1777064400@unser-taunus.de
SUMMARY:After Work Markt
DESCRIPTION:Neue Autos und Zweiräder und Infos rund um die Mobilität.
URL:https://unser-taunus.de/veranstaltung/after-work-markt/
LOCATION:Hintere Hauptstraße\, Königstein
CATEGORIES:Märkte und Feste
END:VEVENT
BEGIN:VEVENT
DTSTART;TZID=Europe/Berlin:20260424T193000
DTEND;TZID=Europe/Berlin:20260424T221500
DTSTAMP:20260421T084527
CREATED:20251223T110912Z
LAST-MODIFIED:20251223T110912Z
UID:10013378-1777059000-1777068900@unser-taunus.de
SUMMARY:Clowneskes Theater "Gardi Hutter - gardizero"
DESCRIPTION:gardiZERO ist eine Hommage an die Kraft der Verwandlung – sei es die Geburt eines neuen Lebens\, die Evolution der Natur oder die ständige Veränderung in uns selbst. Gardi Hutter zeigt\, dass das Nichts nicht leer\, sondern voller Möglichkeiten ist.\nDas Stück ist eine philosophische und unterhaltsame Auseinandersetzung mit dem Nichts\, dem Anfang aller Dinge. Aus der scheinbaren Leere erwächst Leben\, aus dem Chaos entsteht Ordnung\, und aus dem Nichts wird – alles. Mit ihrem eigensinnigen Humor und ihrer großartigen Körperlichkeit begibt sich die Clownerin auf eine Reise durch die Geburt der Dinge\, vom ersten Zucken bis zur kompletten Verwandlung. Sie erkundet\, wann aus Nichts Etwas wird. \nKarten ab 23 Euro gibt es HIER \nBild: gardi_Hutter_C_Geri_Born
URL:https://unser-taunus.de/veranstaltung/clowneskes-theater-gardi-hutter-gardizero/
LOCATION:Forum Friedrichsdorf\, Dreieichstraße 22\,\, Friedrichsdorf\, 61381
CATEGORIES:Theater
ATTACH;FMTTYPE=image/jpeg:https://unser-taunus.de/wp-content/uploads/2025/12/gardi_Hutter_C_Geri_Born-e1766488122453.jpg
END:VEVENT
BEGIN:VEVENT
DTSTART;TZID=Europe/Berlin:20260424T200000
DTEND;TZID=Europe/Berlin:20260424T200000
DTSTAMP:20260421T084527
CREATED:20260409T104132Z
LAST-MODIFIED:20260409T104247Z
UID:10013932-1777060800-1777060800@unser-taunus.de
SUMMARY:Rhein-Main-Swingtett
DESCRIPTION:Bei zahlreichen Gelegenheiten hat das „Rhein-Main-Swingtett“ bereits eindrucksvoll gezeigt\, wie sich Groove\, Swing und spürbare Spielfreude unmittelbar auf das Publikum übertragen. Die sieben Musikerinnen und Musiker kommen von beiden Seiten des Mains und des Rheins: Bernhard Grill (Trompete)\, Dr. Wolfgang Schneider (Posaune)\, Andrea Baumeister (Altsaxofon\, Klarinette)\, Dr. Gerd Konzen (Tenorsaxofon)\, Dr. Stephan Travers (Klavier)\, Richard Ewen (Kontrabass) und Fabian Freund (Schlagzeug) verbindet die Freude am gemeinsamen Spiel\, am Dialog der Instrumente und an melodischer und stilistischer Vielfalt im Jazz. \nDabei reicht das Repertoire von Klassikern der Swing- und Bigband-Ära über Dixieland und New Orleans bis hin zu lateinamerikanischen Rhythmen sowie jazzigen Bearbeitungen von Film- und Pop-Titeln. Hier wird Jazz zum Genuss und zum Lebensgefühl – lebendig\, mitreißend und nah am Publikum. \nDer Eintritt kostet im Vorverkauf 18 Euro\, an der Abendkasse 25 Euro. Karten sind über www.adticket.de/Rhein-Main-Swingtett-Swinging-Springtime/Floersheim-am-Main-Floersheimer-Keller/24-04-2026_20-00.html erhältlich\, hierbei fällt eine Servicegebühr an. Einen Vorverkauf gibt es auch im Stadtbüro\, Rathausplatz 3\, Telefon 06145 955-110\, E-Mail: stadtbuero@floersheim-main.de.
URL:https://unser-taunus.de/veranstaltung/rhein-main-swingtett/
LOCATION:Flörsheimer Keller\, Hauptstraße 43\, Flörsheim\, 65439
CATEGORIES:Jazz
END:VEVENT
BEGIN:VEVENT
DTSTART;TZID=Europe/Berlin:20260424T200000
DTEND;TZID=Europe/Berlin:20260424T223000
DTSTAMP:20260421T084527
CREATED:20260409T100111Z
LAST-MODIFIED:20260409T100111Z
UID:10013925-1777060800-1777069800@unser-taunus.de
SUMMARY:Ein Abend voller Erzählungen und Jazz in der Reihe "Starke Frauen"
DESCRIPTION:Eingetaucht in die Atmosphäre eines New Yorker Jazz Clubs bietet der Zonta Club am Taunus einen Abend mit Jazz und Geschichten über Pannonica de Koenigswarter\, eine bedeutende Figur der Jazzszene der 1950er und 1960er Jahre. Die Veranstaltung würdigt ihre Leidenschaft für Jazz und ihre Rolle als Mentorin. \n\nMusikalische Begleitung durch eine Frankfurter Jazzband\, die den Jazz der 40er bis 60er Jahre interpretiert.\nGespräche über Pannonicas Leben\, geprägt von Freiheit und Selbstbestimmung.\nKulinarische Köstlichkeiten und Getränke werden serviert.\nEinnahmen unterstützen die Musikschule Kelkheim e.V. zur Förderung von Mädchen.\n\nAnmeldung erforderlich unter: event.zcamtaunus@gmail.com oder per Ticket-Hotline 0151-54332855 – Eintritt: 35 Euro inkl. 1 Glas Sekt und Snacks
URL:https://unser-taunus.de/veranstaltung/ein-abend-voller-erzaehlungen-und-jazz-in-der-reihe-starke-frauen/
LOCATION:Jazzclub Kelkheim Hornau\, Rotlindeallee 2\, Kelkheim-Hornau\, 65779
CATEGORIES:Benefizveranstaltung,Jazz,Kleinkunst,Konzert,Kulturveranstaltung
ATTACH;FMTTYPE=image/png:https://unser-taunus.de/wp-content/uploads/2026/04/Pannonica.png
END:VEVENT
BEGIN:VEVENT
DTSTART;TZID=Europe/Berlin:20260424T201500
DTEND;TZID=Europe/Berlin:20260424T223000
DTSTAMP:20260421T084527
CREATED:20260415T110130Z
LAST-MODIFIED:20260415T110130Z
UID:10015793-1777061700-1777069800@unser-taunus.de
SUMMARY:Kino "Was ist Liebe wert – Materialists"
DESCRIPTION:Vor zwei Jahren zeigten wir den Debütfilm der koreanisch-amerikanischen Regisseurin Celine Song „Past Lives“. Der schildert die Wiederbegegnung von zwei Liebenden\, die sich einst in Korea kennlernten\, dann aber getrennt wurden. In ihrem zweiten Film „Materialists“ ist Celine Song nun ganz im „Westen angekommen“. Im Mittelpunkt steht Lucy\, eine Dating Vermittlerin\, die auf ein eignes Liebesleben zugunsten einer effizienten Berufsausübung verzichtet. Dennoch lässt sich im Eifer des „Liebes-Geschäfts“ die eine oder andere Affäre nicht vermeiden\, und schließlich\, man glaubt es kaum\, wendet sich alles zum „Ziemlich Guten“. Eine bitterböse Analyse des aktuellen\, amerikanischen Liebesmarkts. \nKarten ab 5 Euro HIER \nBild:
URL:https://unser-taunus.de/veranstaltung/kino-was-ist-liebe-wert-materialists/
LOCATION:Saal des Eschborn K\, Jahnstraße 3 (Hinterhaus)\, Eschborn
CATEGORIES:Kino
END:VEVENT
END:VCALENDAR