BEGIN:VCALENDAR
VERSION:2.0
PRODID:-//Unser Taunus - ECPv6.15.20//NONSGML v1.0//EN
CALSCALE:GREGORIAN
METHOD:PUBLISH
X-WR-CALNAME:Unser Taunus
X-ORIGINAL-URL:https://unser-taunus.de
X-WR-CALDESC:Veranstaltungen für Unser Taunus
REFRESH-INTERVAL;VALUE=DURATION:PT1H
X-Robots-Tag:noindex
X-PUBLISHED-TTL:PT1H
BEGIN:VTIMEZONE
TZID:Europe/Berlin
BEGIN:DAYLIGHT
TZOFFSETFROM:+0100
TZOFFSETTO:+0200
TZNAME:CEST
DTSTART:20250330T010000
END:DAYLIGHT
BEGIN:STANDARD
TZOFFSETFROM:+0200
TZOFFSETTO:+0100
TZNAME:CET
DTSTART:20251026T010000
END:STANDARD
BEGIN:DAYLIGHT
TZOFFSETFROM:+0100
TZOFFSETTO:+0200
TZNAME:CEST
DTSTART:20260329T010000
END:DAYLIGHT
BEGIN:STANDARD
TZOFFSETFROM:+0200
TZOFFSETTO:+0100
TZNAME:CET
DTSTART:20261025T010000
END:STANDARD
BEGIN:DAYLIGHT
TZOFFSETFROM:+0100
TZOFFSETTO:+0200
TZNAME:CEST
DTSTART:20270328T010000
END:DAYLIGHT
BEGIN:STANDARD
TZOFFSETFROM:+0200
TZOFFSETTO:+0100
TZNAME:CET
DTSTART:20271031T010000
END:STANDARD
END:VTIMEZONE
BEGIN:VEVENT
DTSTART;TZID=Europe/Berlin:20260419T110000
DTEND;TZID=Europe/Berlin:20260419T170000
DTSTAMP:20260419T181544
CREATED:20260416T131622Z
LAST-MODIFIED:20260416T131622Z
UID:10015822-1776596400-1776618000@unser-taunus.de
SUMMARY:Thementag Hessenpark „Natürlich Holz!“
DESCRIPTION:Seit Jahrhunderten ist Holz als Werkstoff von großer Bedeutung. An diesem Tag stehen zahlreiche Handwerksvorführungen und Mitmachaktionen im Zeichen des natürlichen Materials. Neben der Holzverarbeitung widmen wir uns auch dem Wald als Holzlieferant und Lebensraum sowie seiner nachhaltigen Nutzung. \nBild:
URL:https://unser-taunus.de/veranstaltung/thementag-hessenpark-natuerlich-holz/
LOCATION:Freilichtmuseum Hessenpark\, Laubweg 5\, Neu-Anspach\, 61267
CATEGORIES:Informationsveranstaltung
END:VEVENT
BEGIN:VEVENT
DTSTART;TZID=Europe/Berlin:20260419T111500
DTEND;TZID=Europe/Berlin:20260419T111500
DTSTAMP:20260419T181544
CREATED:20260302T071515Z
LAST-MODIFIED:20260415T115451Z
UID:10013673-1776597300-1776597300@unser-taunus.de
SUMMARY:Sonntagsführung „Friedensreich Hundertwasser (1928 – 2000) – Friedensvertrag mit der Natur“
DESCRIPTION:Öffentliche Führung mit Kunsthistorikerin Monika Öchsner durch die Sonderausstellung \nPreis: 13 Euro\, ermäßigt 10 Euro inkl. Eintritt in das Stadtmuseum\nAnmeldung unter Telefon 06192 202-540 oder per Mail an stadtmuseum@hofheim.de \nAusstellung vom 22.02. – 07.06.2026\nVeranstalter: Magistrat der Kreisstadt Hofheim am Taunus – Stadtmuseum in Kooperation mit der Ernst Barlach Museumsgesellschaft Hamburg
URL:https://unser-taunus.de/veranstaltung/sonntagsfuehrung-friedensreich-hundertwasser-1928-2000-friedensvertrag-mit-der-natur-2/
LOCATION:Stadtmuseum Hofheim\, Burgstraße 11\, Hofheim am Taunus\, 65719
CATEGORIES:Ausstellung,Führung,Vernissage
ATTACH;FMTTYPE=image/jpeg:https://unser-taunus.de/wp-content/uploads/2026/03/Hundertwasser.jpg
END:VEVENT
BEGIN:VEVENT
DTSTART;TZID=Europe/Berlin:20260419T120000
DTEND;TZID=Europe/Berlin:20260419T170000
DTSTAMP:20260419T181544
CREATED:20260415T133055Z
LAST-MODIFIED:20260416T123250Z
UID:10015813-1776600000-1776618000@unser-taunus.de
SUMMARY:Mobilitätsmesse mit verkaufsoffenem Sonntag
DESCRIPTION:Neue Autos und Zweiräder und Infos rund um die Mobilität.
URL:https://unser-taunus.de/veranstaltung/mobilitaetsmesse-mit-verkaufsoffenem-sonntag/
LOCATION:Kapuziner Platz\, Königstein im Taunus
CATEGORIES:Sonstiges
END:VEVENT
BEGIN:VEVENT
DTSTART;TZID=Europe/Berlin:20260419T140000
DTEND;TZID=Europe/Berlin:20260419T140000
DTSTAMP:20260419T181544
CREATED:20260415T112258Z
LAST-MODIFIED:20260415T112258Z
UID:10015796-1776607200-1776607200@unser-taunus.de
SUMMARY:Fahrradrundroute für Neubürger:innen
DESCRIPTION:Um die neue Heimat näher zu bringen\, bietet Bürgermeister Steffen Bonk zusammen mit dem ADFC  eine Tour speziell für die zugezogenen Einwohner:innen an.
URL:https://unser-taunus.de/veranstaltung/fahrradrundroute-fuer-neubuergerinnen/
CATEGORIES:Fahrradtour
END:VEVENT
BEGIN:VEVENT
DTSTART;TZID=Europe/Berlin:20260419T150000
DTEND;TZID=Europe/Berlin:20260419T170000
DTSTAMP:20260419T181544
CREATED:20260415T094800Z
LAST-MODIFIED:20260415T100536Z
UID:10015776-1776610800-1776618000@unser-taunus.de
SUMMARY:Führung Kleiner Tannenwald
DESCRIPTION:Anmeldung unter gartenlandschaft@bad-homburg.de
URL:https://unser-taunus.de/veranstaltung/fuehrung-kleiner-tannenwald/
LOCATION:Treffpunkt Kleiner Tannenwald\, Eingang Mariannenweg 36 / Kreuzallee\, Bad Homburg
CATEGORIES:Führung
ATTACH;FMTTYPE=image/jpeg:https://unser-taunus.de/wp-content/uploads/2023/07/Kleiner-Tannenwald.jpg
END:VEVENT
BEGIN:VEVENT
DTSTART;TZID=Europe/Berlin:20260419T150000
DTEND;TZID=Europe/Berlin:20260419T180000
DTSTAMP:20260419T181544
CREATED:20260415T100422Z
LAST-MODIFIED:20260415T100548Z
UID:10015777-1776610800-1776621600@unser-taunus.de
SUMMARY:Führung Tannenwaldallee
DESCRIPTION:mit Schlossgarten – Englischen Garten – Louisgarten\,- Ferdinandsgarten – Gustavsgarten – Kleinen Tannenwald \nAnmeldung unter gartenlandschaft@bad-homburg.de
URL:https://unser-taunus.de/veranstaltung/fuehrung-tannenwaldallee/
LOCATION:Treffpunkt  Eingang Dorotheentraße „Schlosshof an der Zeder“\, Bad Homburg v. d. Höhe\, 61350
CATEGORIES:Führung
ATTACH;FMTTYPE=image/jpeg:https://unser-taunus.de/wp-content/uploads/2022/04/Forstgarten-2.jpg
END:VEVENT
BEGIN:VEVENT
DTSTART;TZID=Europe/Berlin:20260419T170000
DTEND;TZID=Europe/Berlin:20260419T190000
DTSTAMP:20260419T181544
CREATED:20260409T125919Z
LAST-MODIFIED:20260409T125919Z
UID:10013935-1776618000-1776625200@unser-taunus.de
SUMMARY:Theater: Szenenwechsel e.V. "Agatha Christies Hobby ist Mord"
DESCRIPTION:Ein Schuss…und der legendäre Star des „Duchess Theatre“ im Londoner West End bricht während einer Probe kurz vor der Uraufführung eines Kriminalstücks aus der Feder der „Queen of Crime“\, Agatha Christie\, tot auf der Bühne zusammen. Das Merkwürdige: Weder Blut noch ein Einschussloch sind erkennbar. War es ein Unfall oder vielleicht doch Mord? Wie passend\, dass die Autorin höchstpersönlich vor Ort ist und nun ihrem größten Wunsch und Hobby nachkommen kann\, wie eine ihrer Romanfiguren einmal tatsächlich selbst zu ermitteln. Zwei Stunden werden ihr gewährt\, bevor Scotland Yard eingeschaltet werden soll. Wer vom Ensemble hatte ein Motiv – vielleicht sogar Agatha Christie selbst? \nMitspielende: Anna Altheim\, Oliver Gehlert\, Tim Hoffmann\, Torsten Leiss\, Steffi Mauder\, Uta Patzina\nRegie: Ulli Klein; Assistenz: Margit Altheim; Souffleuse: Barbara Semeras \nKarten kosten 18 Euro und können reserviert werden bei Garniers Keller\, E-Mail: garnierskeller@gmx.de\, Telefon 06172 72087 \nBild: Der Szenenwechsel e.V. mit einem spannenden Kriminalstück (Foto: © Szenenwechsel e.V.).
URL:https://unser-taunus.de/veranstaltung/theater-szenenwechsel-e-v-agatha-christies-hobby-ist-mord/
LOCATION:Garniers Keller\, Hugenottenstraße 117\, \, Friedrichsdorf\, 61381
CATEGORIES:Blues
ATTACH;FMTTYPE=image/jpeg:https://unser-taunus.de/wp-content/uploads/2026/04/Theater_Szenenwechsel_eV.jpg
END:VEVENT
BEGIN:VEVENT
DTSTART;TZID=Europe/Berlin:20260419T190000
DTEND;TZID=Europe/Berlin:20260419T190000
DTSTAMP:20260419T181544
CREATED:20260324T103522Z
LAST-MODIFIED:20260324T103522Z
UID:10013884-1776625200-1776625200@unser-taunus.de
SUMMARY:Frank Fischer „GAGALAND“
DESCRIPTION:Die Welt steht Kopf. Um sie zu verstehen\, könnte man versuchen\, einen Handstand zu machen. Oder man bleibt aufrecht sitzen und begegnet dem ganzen Irrsinn mit Humor. Frank Fischer nimmt die Gäste mit auf die Reise durch ein sonderbares Land\, dessen schräge Bewohner er mit exakter Beobachtung und feinem Humor lebendig werden lässt. Er trifft auf finstere Franken\, kesse Ruhrpottlerinnen und kommt beim Hören einer sächsischen Radiowerbung dem Wahnsinn schon sehr nahe. Daneben ergründet er die drängenden Fragen unserer Zeit: Sollten wir der Künstlichen Intelligenz eine Chance geben\, wenn es mit der natürlichen nicht klappt? Warum machen wir im Alter unbeabsichtigt Geräusche? Und wieso sollten wir skeptisch sein\, wenn Fernzüge plötzlich pünktlich sind? Mühelos schlägt er den Bogen von großer Weltpolitik zu den Absurditäten des Alltags. Denn egal ob Präsidenten\, Promis oder die Verkäuferin hinter der Wursttheke – sie alle sind Teil von GAGALAND. \nDer Eintritt kostet im Vorverkauf 22\,50 Euro\, an der Abendkasse 30 Euro. Karten sind unter www.adticket.de/Frank-Fischer-Gagaland/Floersheim-am-Main-Floersheimer-Keller/19-04-2026_18-00.html erhältlich\, hierbei fällt eine Servicegebühr an. Einen Vorverkauf gibt es auch im Stadtbüro\, Rathausplatz 3\, Telefon 06145 955-110\, E-Mail: stadtbuero@floersheim-main.de.
URL:https://unser-taunus.de/veranstaltung/frank-fischer-gagaland/
LOCATION:Flörsheimer Keller\, Hauptstraße 43\, Flörsheim\, 65439
CATEGORIES:Kabarett/Comedy
END:VEVENT
END:VCALENDAR