BEGIN:VCALENDAR
VERSION:2.0
PRODID:-//Unser Taunus - ECPv6.15.20//NONSGML v1.0//EN
CALSCALE:GREGORIAN
METHOD:PUBLISH
X-WR-CALNAME:Unser Taunus
X-ORIGINAL-URL:https://unser-taunus.de
X-WR-CALDESC:Veranstaltungen für Unser Taunus
REFRESH-INTERVAL;VALUE=DURATION:PT1H
X-Robots-Tag:noindex
X-PUBLISHED-TTL:PT1H
BEGIN:VTIMEZONE
TZID:Europe/Berlin
BEGIN:DAYLIGHT
TZOFFSETFROM:+0100
TZOFFSETTO:+0200
TZNAME:CEST
DTSTART:20250330T010000
END:DAYLIGHT
BEGIN:STANDARD
TZOFFSETFROM:+0200
TZOFFSETTO:+0100
TZNAME:CET
DTSTART:20251026T010000
END:STANDARD
BEGIN:DAYLIGHT
TZOFFSETFROM:+0100
TZOFFSETTO:+0200
TZNAME:CEST
DTSTART:20260329T010000
END:DAYLIGHT
BEGIN:STANDARD
TZOFFSETFROM:+0200
TZOFFSETTO:+0100
TZNAME:CET
DTSTART:20261025T010000
END:STANDARD
BEGIN:DAYLIGHT
TZOFFSETFROM:+0100
TZOFFSETTO:+0200
TZNAME:CEST
DTSTART:20270328T010000
END:DAYLIGHT
BEGIN:STANDARD
TZOFFSETFROM:+0200
TZOFFSETTO:+0100
TZNAME:CET
DTSTART:20271031T010000
END:STANDARD
END:VTIMEZONE
BEGIN:VEVENT
DTSTART;TZID=Europe/Berlin:20260422T200000
DTEND;TZID=Europe/Berlin:20260422T220000
DTSTAMP:20260424T103724
CREATED:20260416T121548Z
LAST-MODIFIED:20260416T121548Z
UID:10015814-1776888000-1776895200@unser-taunus.de
SUMMARY:KellerKabarett "Senay Duzcu - Drama Türkin"
DESCRIPTION:Ein „Drama“ – das ist für die rebellisch erfrischende und tiefgehende Comedy-Türkin Senay Duzcu\, türkische Stand-Up Comedian\, dass sie keine typische Türkin ist. Aber nicht nur für sie\, auch für ihre Gesellschaft ist das ein Drama!\nDoch jeder Versuch\, ihr den herkömmlichen Stempel aufzudrücken\, scheitert: Als Deutsch-Türkin ist sie den Ewiggestrigen „zu modern“\, den Jüngeren „zu traditionsgebunden“\, den Männern als selbstständige Frau „zu emanzipiert“. Ihre ungewöhnlichen Geschichten schreibt ihr eigenes Leben. Duzcu macht Comedy mit Tiefgang\, erzählt von ihren Erfahrungen im Alltag und setzt dem Ganzen mit Lebendigkeit das Sahnehäubchen auf. Sie nimmt nicht nur „typische Migrantenthemen“ ins Visier\, sondern greift so ziemlich alle Themen auf\, die die Damenwelt und ganz sicher auch den einen oder anderen Herren der Schöpfung bewegen. \nEintritt: 18 Euro I Ermäßigt: 16 Euro ggf. zzgl. Servicegebühren\nTickets: Info-Stelle im Rathaus\, Tel. 06172 731-0\nFreie Platzwahl\, keine Platzreservierung \nBild: Senay Duzcu macht Comedy mit Tiefgang (Foto: © Jürgen Wegner)
URL:https://unser-taunus.de/veranstaltung/kellerkabarett-senay-duzcu-drama-tuerkin/
LOCATION:Garniers Keller\, Hugenottenstraße 117\, \, Friedrichsdorf\, 61381
CATEGORIES:Kabarett/Comedy
ATTACH;FMTTYPE=image/jpeg:https://unser-taunus.de/wp-content/uploads/2026/04/Senay_Duzcu_DramaTuerkin_©Juergen-Wegner-e1776341730226.jpg
END:VEVENT
BEGIN:VEVENT
DTSTART;TZID=Europe/Berlin:20260416T200000
DTEND;TZID=Europe/Berlin:20260416T221500
DTSTAMP:20260424T103724
CREATED:20260409T131943Z
LAST-MODIFIED:20260409T131943Z
UID:10013936-1776369600-1776377700@unser-taunus.de
SUMMARY:Ausbilder Schmidt "Unkraut vergeht nicht – 25 Jahre Anschiss"
DESCRIPTION:alias Holger Müller \nWenn ein Comedian seit 25 Jahren erfolgreich auf Tour ist\, dann ist der Spaßfaktor hoch. Ausbilder Schmidt macht 25 Jahre Spaß und Comedy für alle. Und das kann er am besten: Sein Publikum zum Lachen bringen. Einfach mal wieder abschalten und Spaß haben. Das Programm vereint das Beste aus 25 Jahren mit vielen neuen Nummern. Von Natur aus der Drecksack der Nation\, heizt er. durchdringend und gnadenlos streng seinem Publikum ein\, bis es brüllt und kichert vor Lachen. Ausbilder Schmidt ist der Schleifer der Comedyszene. So kennt man ihn – so will man ihn. Der Ausbilder ist eine personifizierte Satire auf alle Besserwisser und selbsternannten Potentaten und vor allem eine Figur\, die zurecht Kult-Charakter erlangt hat. \nKarten kosten 21 Euro (ermäßigt 19 Euro) und sind erhältlich an der Info-Stelle im Rathaus (Hugenottenstraße 55\, Telefon 06172 731-0)\, unter www.friedrichsdorf.de oder bei HOLIDAY LAND Reisecenter Stosius im Taunus Carré (Wilhelmstraße 23 – zuzüglich Servicegebühr). \nBild: Ausbilder Schmidt ist der „Schleifer“ der Comedyszene (Foto: © Manfred Wegner).
URL:https://unser-taunus.de/veranstaltung/ausbilder-schmidt-unkraut-vergeht-nicht-25-jahre-anschiss/
LOCATION:Forum Friedrichsdorf\, Dreieichstraße 22\,\, Friedrichsdorf\, 61381
CATEGORIES:Kabarett/Comedy
ATTACH;FMTTYPE=image/jpeg:https://unser-taunus.de/wp-content/uploads/2026/04/Ausbilder_Schmidt_C_Manfred_Wegner-e1775740712430.jpg
END:VEVENT
BEGIN:VEVENT
DTSTART;TZID=Europe/Berlin:20260416T180000
DTEND;TZID=Europe/Berlin:20260416T180000
DTSTAMP:20260424T103724
CREATED:20260324T120300Z
LAST-MODIFIED:20260324T120300Z
UID:10013893-1776362400-1776362400@unser-taunus.de
SUMMARY:Melanie Usselmann "Klimawandel und Geschlechtergerechtigkeit: Warum Frauen stärker betroffen sind"
DESCRIPTION:Vortrag über die geschlechtsspezifischen Folgen des Klimawandels. Referentin Melanie Usselmann (UN Women Deutschland) \nKosten: 10 Euro.\nEine Anmeldung ist erforderlich über: frauenbeauftragte@friedrichsdorf.de \nBild: Der Klimawandel hat uns schon längst erreicht.
URL:https://unser-taunus.de/veranstaltung/melanie-usselmann-klimawandel-und-geschlechtergerechtigkeit-warum-frauen-staerker-betroffen-sind/
LOCATION:Rathaus Friedrichsdorf\, Hugenottenstraße 55\, Friedrichsdorf
CATEGORIES:Vortrag
ATTACH;FMTTYPE=image/jpeg:https://unser-taunus.de/wp-content/uploads/2026/03/NoPlanetB_FREEPIK.jpg
END:VEVENT
END:VCALENDAR