BEGIN:VCALENDAR
VERSION:2.0
PRODID:-//Unser Taunus - ECPv6.15.20//NONSGML v1.0//EN
CALSCALE:GREGORIAN
METHOD:PUBLISH
X-ORIGINAL-URL:https://unser-taunus.de
X-WR-CALDESC:Veranstaltungen für Unser Taunus
REFRESH-INTERVAL;VALUE=DURATION:PT1H
X-Robots-Tag:noindex
X-PUBLISHED-TTL:PT1H
BEGIN:VTIMEZONE
TZID:Europe/Berlin
BEGIN:DAYLIGHT
TZOFFSETFROM:+0100
TZOFFSETTO:+0200
TZNAME:CEST
DTSTART:20250330T010000
END:DAYLIGHT
BEGIN:STANDARD
TZOFFSETFROM:+0200
TZOFFSETTO:+0100
TZNAME:CET
DTSTART:20251026T010000
END:STANDARD
BEGIN:DAYLIGHT
TZOFFSETFROM:+0100
TZOFFSETTO:+0200
TZNAME:CEST
DTSTART:20260329T010000
END:DAYLIGHT
BEGIN:STANDARD
TZOFFSETFROM:+0200
TZOFFSETTO:+0100
TZNAME:CET
DTSTART:20261025T010000
END:STANDARD
BEGIN:DAYLIGHT
TZOFFSETFROM:+0100
TZOFFSETTO:+0200
TZNAME:CEST
DTSTART:20270328T010000
END:DAYLIGHT
BEGIN:STANDARD
TZOFFSETFROM:+0200
TZOFFSETTO:+0100
TZNAME:CET
DTSTART:20271031T010000
END:STANDARD
END:VTIMEZONE
BEGIN:VEVENT
DTSTART;TZID=Europe/Berlin:20260404T100000
DTEND;TZID=Europe/Berlin:20260404T130000
DTSTAMP:20260421T181727
CREATED:20260112T094845Z
LAST-MODIFIED:20260324T111059Z
UID:10013424-1775296800-1775307600@unser-taunus.de
SUMMARY:Oberursel repariert
DESCRIPTION:Die Instandsetzung der Geräte ist kostenlos\, lediglich notwendige Materialkosten werden berechnet. Bei erfolgreicher Reparatur freuen sich die Ehrenamtlichen über eine Spende für den guten Zweck. Neben dem Spaß am Basteln und Tüfteln soll die Kommunikation nicht zu kurz kommen. Die Werkstatt steht für alle offen\, auch wenn jemand nichts zu reparieren hat\, aber möglicherweise den einen oder anderen Tipp auf Lager hat oder einfach nur neugierig ist – Sie sind herzlich willkommen\, Kaffee und Kuchen wird auch angeboten. \nEine Anmeldung ist nicht erforderlich.
URL:https://unser-taunus.de/veranstaltung/oberursel-repariert/
LOCATION:Rathaus Oberursel\, Rathausplatz 1\,\, Oberursel
CATEGORIES:Sonstiges
END:VEVENT
BEGIN:VEVENT
DTSTART;TZID=Europe/Berlin:20260325T163000
DTEND;TZID=Europe/Berlin:20260325T183000
DTSTAMP:20260421T181727
CREATED:20260120T093910Z
LAST-MODIFIED:20260212T130230Z
UID:10013457-1774456200-1774463400@unser-taunus.de
SUMMARY:Start in die digitale Welt
DESCRIPTION:Menschen ohne Computer- und Interneterfahrung und -zugang bekommen unter fachlicher Begleitung an bereitgestellten Computern (Laptops mit zusätzlichem großem Bildschirm und Maus) Zugang zu EDV und erlangen so Kenntnisse für den Alltag. Auch Unbekanntes\, wie beispielsweise eine Videokonferenz\, kann ausprobiert werden. Aus datenschutzrechtlichen Gründen dürfen keine persönlichen Daten gespeichert werden und die Computer werden nach jeder Veranstaltung zurückgesetzt. Zur persönlichen Speicherung kann ein USB-Stick mitgebracht werden. Wer keinen USB-Stick hat\, erhält einen vor Ort. \nAufgrund der begrenzten Plätze wird im Vorfeld um Anmeldung beim NBO gebeten unter Tel. 06171 502180 (bitte auf den Anrufbeantworter sprechen) oder per E-Mail an zeit_spenden@oberursel.de gebeten.
URL:https://unser-taunus.de/veranstaltung/start-in-die-digitale-welt/
LOCATION:Altes Hospital\, Hospitalstraße 9\, Oberursel(Taunus)
CATEGORIES:Informationsveranstaltung
END:VEVENT
END:VCALENDAR