BEGIN:VCALENDAR
VERSION:2.0
PRODID:-//Unser Taunus - ECPv6.15.20//NONSGML v1.0//EN
CALSCALE:GREGORIAN
METHOD:PUBLISH
X-ORIGINAL-URL:https://unser-taunus.de
X-WR-CALDESC:Veranstaltungen für Unser Taunus
REFRESH-INTERVAL;VALUE=DURATION:PT1H
X-Robots-Tag:noindex
X-PUBLISHED-TTL:PT1H
BEGIN:VTIMEZONE
TZID:Europe/Berlin
BEGIN:DAYLIGHT
TZOFFSETFROM:+0100
TZOFFSETTO:+0200
TZNAME:CEST
DTSTART:20250330T010000
END:DAYLIGHT
BEGIN:STANDARD
TZOFFSETFROM:+0200
TZOFFSETTO:+0100
TZNAME:CET
DTSTART:20251026T010000
END:STANDARD
BEGIN:DAYLIGHT
TZOFFSETFROM:+0100
TZOFFSETTO:+0200
TZNAME:CEST
DTSTART:20260329T010000
END:DAYLIGHT
BEGIN:STANDARD
TZOFFSETFROM:+0200
TZOFFSETTO:+0100
TZNAME:CET
DTSTART:20261025T010000
END:STANDARD
BEGIN:DAYLIGHT
TZOFFSETFROM:+0100
TZOFFSETTO:+0200
TZNAME:CEST
DTSTART:20270328T010000
END:DAYLIGHT
BEGIN:STANDARD
TZOFFSETFROM:+0200
TZOFFSETTO:+0100
TZNAME:CET
DTSTART:20271031T010000
END:STANDARD
END:VTIMEZONE
BEGIN:VEVENT
DTSTART;TZID=Europe/Berlin:20260420T080000
DTEND;TZID=Europe/Berlin:20260420T170000
DTSTAMP:20260420T184708
CREATED:20260420T090326Z
LAST-MODIFIED:20260420T090326Z
UID:10015848-1776672000-1776704400@unser-taunus.de
SUMMARY:Autoren-Lesung
DESCRIPTION:Mit einem „Kessel Kunterbuntes“ möchte die Autorengemeinschaft die Besucher dieser Lesung im jeweils etwa 20minütigen Wechsel unterhalten. \nCornelia Kube-Druener „Vudi – Eine phantastische Geschichte“\nDie Jahre eines Familienlebens führt\, von Kindheit bis Erwachsensein. \nMichael Liebusch „Insgesamt ist es diesig“\nEine Reise an den Gardasee mit dem Tagebuch des Vaters. \nHanne Philipps liest Geschichten über das Leben\, philosophisch hinterfragt. \nMechthild Rupp „Zwielicht“\nKurzgeschichte über die Lebenskrise einer Frau\, die durch diese in einen Raum zwischen Traum und Wirklichkeit gerät Und gibt einen kleinen Einblick in ihr neues Kinderbuch „Wolf und Swientje“. \nEine musikalische Umrahmung durch das Cantarelli Ensemble lässt dabei neuerliche Aufmerksamkeit schöpfen. In einer Pause ist für das leibliche Wohl gesorgt. Die Lesung darf gerne in eine offene Gesprächsrunde münden\, und ein Büchertisch bietet an\, den Abend daheim zu vollenden.
URL:https://unser-taunus.de/veranstaltung/autoren-lesung/
LOCATION:Galerie Artlantis\, Tannenwaldweg 6\, \,Bad Homburg
CATEGORIES:Lesung
ATTACH;FMTTYPE=image/jpeg:https://unser-taunus.de/wp-content/uploads/2026/04/Cantarelli.jpg
END:VEVENT
BEGIN:VEVENT
DTSTART;TZID=Europe/Berlin:20260410T200000
DTEND;TZID=Europe/Berlin:20260410T200000
DTSTAMP:20260420T184708
CREATED:20260409T103933Z
LAST-MODIFIED:20260414T165508Z
UID:10013931-1775851200-1775851200@unser-taunus.de
SUMMARY:Uta Riek und Carolina Brückmann "Daseinsformen"
DESCRIPTION:Eröffnungsfest mit Saxophon von Ebenezer Pratt\nEbenezer Pratt hat die Musik im Blut\, er ist passionierter Saxophonist seit 1975 und professioneller Musiker seit 1985. Nach verschiedenen Stationen in Afrika lebt er seit langem in Wiesbaden. Sein Repertoire ist vielseitig. Er spielt Jazz\, Blues\, Soul Music\, Pop\, Bossa Nova and Samba\, aber auch Rock’n Roll und Oldies. \n11. APR – 3. MAI 2026 \nIn der Ausstellung begegnen sich zwei künstlerische Positionen\, die sich auf unterschiedliche Weise mit inneren und äußeren Zuständen des Menschen auseinandersetzen – in seiner Fragilität\, seiner Suche und seinem Ausdruck. \nUta Riek arbeitet mit spontanem Ausdruck\, der aus Bewegung und Empfindung entsteht und unmittelbar auf die Leinwand übertragen wird. Sie verwendet Tinte\, Acryl und Öl – meist auf nicht grundierter Leinwand\, sodass die Farben frei verlaufen dürfen. Diese offene Technik verleiht ihren Arbeiten Leichtigkeit und Transparenz. Immer wieder kreisen ihre Werke um die Auflösung von Form und Farbe\, um Vergänglichkeit\, um Übergänge zwischen Sichtbarem und Unsichtbarem. \nCarolina Brückmann\, Studentin an der HfG in Offenbach\, richtet den Blick auf die Bedingungen\, unter denen der Mensch heute lebt. Ihre Arbeiten beschäftigen sich mit dem Bedürfnis nach Schutz\, Ruhe und Geborgenheit. Aus dieser Auseinandersetzung ist das Objekt „Sleeping Through“ entstanden – ein Werk\, das Fragen nach Rückzug und Sicherheit künstlerisch reflektiert.
URL:https://unser-taunus.de/veranstaltung/uta-riek-und-carolina-brueckmann-daseinsformen/
LOCATION:Galerie Artlantis\, Tannenwaldweg 6\, \,Bad Homburg
CATEGORIES:Ausstellung,Vernissage
ATTACH;FMTTYPE=image/jpeg:https://unser-taunus.de/wp-content/uploads/2026/04/9ec54213-f0ad-42cb-90b2-55ac8b4ed15c.jpg
END:VEVENT
END:VCALENDAR