BEGIN:VCALENDAR
VERSION:2.0
PRODID:-//Unser Taunus - ECPv6.15.20//NONSGML v1.0//EN
CALSCALE:GREGORIAN
METHOD:PUBLISH
X-ORIGINAL-URL:https://unser-taunus.de
X-WR-CALDESC:Veranstaltungen für Unser Taunus
REFRESH-INTERVAL;VALUE=DURATION:PT1H
X-Robots-Tag:noindex
X-PUBLISHED-TTL:PT1H
BEGIN:VTIMEZONE
TZID:Europe/Berlin
BEGIN:DAYLIGHT
TZOFFSETFROM:+0100
TZOFFSETTO:+0200
TZNAME:CEST
DTSTART:20250330T010000
END:DAYLIGHT
BEGIN:STANDARD
TZOFFSETFROM:+0200
TZOFFSETTO:+0100
TZNAME:CET
DTSTART:20251026T010000
END:STANDARD
BEGIN:DAYLIGHT
TZOFFSETFROM:+0100
TZOFFSETTO:+0200
TZNAME:CEST
DTSTART:20260329T010000
END:DAYLIGHT
BEGIN:STANDARD
TZOFFSETFROM:+0200
TZOFFSETTO:+0100
TZNAME:CET
DTSTART:20261025T010000
END:STANDARD
BEGIN:DAYLIGHT
TZOFFSETFROM:+0100
TZOFFSETTO:+0200
TZNAME:CEST
DTSTART:20270328T010000
END:DAYLIGHT
BEGIN:STANDARD
TZOFFSETFROM:+0200
TZOFFSETTO:+0100
TZNAME:CET
DTSTART:20271031T010000
END:STANDARD
END:VTIMEZONE
BEGIN:VEVENT
DTSTART;TZID=Europe/Berlin:20260407T140000
DTEND;TZID=Europe/Berlin:20260407T170000
DTSTAMP:20260421T001459
CREATED:20250926T121026Z
LAST-MODIFIED:20260324T095255Z
UID:10012589-1775570400-1775581200@unser-taunus.de
SUMMARY:Sprechstunde für Existenzgründer
DESCRIPTION:In der Existenzgründersprechstunde erhalten Interessierte praktische Hinweise zu Fragen der Unternehmensgründung und -führung\, beispielsweise in Sachen Businessplan\, Finanzierung\, Fördermöglichkeiten\, Buchhaltung\, Marketing\, Vertrieb. Gemeinsam mit dem Kelkheimer Verein zur Förderung von Existenzgründungen e.V. bietet die Stadt Flörsheim am Main ihren Bürger:inne\, die sich beruflich selbständig machen möchten\, kompetente Unterstützung an. \nZur Teilnahme ist eine Anmeldung über das Buchungsprogramm https://digital.hattersheim.de/firmengruender\, per E-Mail an wirtschaftsfoerderung@hattersheim.de oder telefonisch unter 06190 970-267 erfolgen\, Ansprechpartnerin ist Svenja Keil.
URL:https://unser-taunus.de/veranstaltung/sprechstunde-fuer-existenzgruender/
LOCATION:nach Anmeldung
CATEGORIES:Beratung
END:VEVENT
END:VCALENDAR