BEGIN:VCALENDAR
VERSION:2.0
PRODID:-//Unser Taunus - ECPv6.15.20//NONSGML v1.0//EN
CALSCALE:GREGORIAN
METHOD:PUBLISH
X-ORIGINAL-URL:https://unser-taunus.de
X-WR-CALDESC:Veranstaltungen für Unser Taunus
REFRESH-INTERVAL;VALUE=DURATION:PT1H
X-Robots-Tag:noindex
X-PUBLISHED-TTL:PT1H
BEGIN:VTIMEZONE
TZID:Europe/Berlin
BEGIN:DAYLIGHT
TZOFFSETFROM:+0100
TZOFFSETTO:+0200
TZNAME:CEST
DTSTART:20250330T010000
END:DAYLIGHT
BEGIN:STANDARD
TZOFFSETFROM:+0200
TZOFFSETTO:+0100
TZNAME:CET
DTSTART:20251026T010000
END:STANDARD
BEGIN:DAYLIGHT
TZOFFSETFROM:+0100
TZOFFSETTO:+0200
TZNAME:CEST
DTSTART:20260329T010000
END:DAYLIGHT
BEGIN:STANDARD
TZOFFSETFROM:+0200
TZOFFSETTO:+0100
TZNAME:CET
DTSTART:20261025T010000
END:STANDARD
BEGIN:DAYLIGHT
TZOFFSETFROM:+0100
TZOFFSETTO:+0200
TZNAME:CEST
DTSTART:20270328T010000
END:DAYLIGHT
BEGIN:STANDARD
TZOFFSETFROM:+0200
TZOFFSETTO:+0100
TZNAME:CET
DTSTART:20271031T010000
END:STANDARD
END:VTIMEZONE
BEGIN:VEVENT
DTSTART;TZID=Europe/Berlin:20260408T111500
DTEND;TZID=Europe/Berlin:20260408T111500
DTSTAMP:20260420T033831
CREATED:20260308T102626Z
LAST-MODIFIED:20260317T140655Z
UID:10013785-1775646900-1775646900@unser-taunus.de
SUMMARY:Märchenführung für Kinder "Böse Riesen auf Burg Eppstein"
DESCRIPTION:Der 7. April ist ausgebucht. \nDiesmal bedrohen böse Riesen die Burg Eppstein. Gelingt es Ritter Eppo\, Bertha aus Bremthal aus den Fängen des gefährlichen Riesen zu befreien? Wie überlistet das kleine tapfere Schneiderlein gleich mehre heimtückische Riesen\, die ihm nach dem Leben trachten? Wo hat der Riese ohne Herz sein kaltes Herz versteckt? Die Führung mit Sonja von Saldern bringt Kindern von sechs bis 12 Jahren interaktiv den Beruf des Schneiders näher\, erklärt\,\nwie Eppstein zu seinem Namen kommt und zeigt\, was passiert\, wenn die Grenzen zwischen Gut und Böse verschwimmen. \nDie Teilnehmerzahl ist begrenzt\, daher ist eine Anmeldung unter monika.rohde-reith@eppstein.de oder 06198 305 131 nötig. Kinder zahlen fünf Euro inklusive Burgeintritt. Betreuungspersonen sollten aufgrund der Aufsichtspflicht dabei bleiben und zahlen den Burgeintritt (fünf Euro). \nFoto: Sonja von Saldern hat bereits einen Riesen gebastelt. Foto: Burgmuseum.
URL:https://unser-taunus.de/veranstaltung/maerchenfuehrung-fuer-kinder-boese-riesen-auf-burg-eppstein/2026-04-08/
LOCATION:Burg Eppstein\, Eppstein\, 65817
CATEGORIES:Kinder
ATTACH;FMTTYPE=image/jpeg:https://unser-taunus.de/wp-content/uploads/2026/03/Riese-e1772965579783.jpg
END:VEVENT
BEGIN:VEVENT
DTSTART;TZID=Europe/Berlin:20260407T111500
DTEND;TZID=Europe/Berlin:20260407T111500
DTSTAMP:20260420T033831
CREATED:20260308T102626Z
LAST-MODIFIED:20260317T140655Z
UID:10013784-1775560500-1775560500@unser-taunus.de
SUMMARY:Märchenführung für Kinder "Böse Riesen auf Burg Eppstein"
DESCRIPTION:Der 7. April ist ausgebucht. \nDiesmal bedrohen böse Riesen die Burg Eppstein. Gelingt es Ritter Eppo\, Bertha aus Bremthal aus den Fängen des gefährlichen Riesen zu befreien? Wie überlistet das kleine tapfere Schneiderlein gleich mehre heimtückische Riesen\, die ihm nach dem Leben trachten? Wo hat der Riese ohne Herz sein kaltes Herz versteckt? Die Führung mit Sonja von Saldern bringt Kindern von sechs bis 12 Jahren interaktiv den Beruf des Schneiders näher\, erklärt\,\nwie Eppstein zu seinem Namen kommt und zeigt\, was passiert\, wenn die Grenzen zwischen Gut und Böse verschwimmen. \nDie Teilnehmerzahl ist begrenzt\, daher ist eine Anmeldung unter monika.rohde-reith@eppstein.de oder 06198 305 131 nötig. Kinder zahlen fünf Euro inklusive Burgeintritt. Betreuungspersonen sollten aufgrund der Aufsichtspflicht dabei bleiben und zahlen den Burgeintritt (fünf Euro). \nFoto: Sonja von Saldern hat bereits einen Riesen gebastelt. Foto: Burgmuseum.
URL:https://unser-taunus.de/veranstaltung/maerchenfuehrung-fuer-kinder-boese-riesen-auf-burg-eppstein/2026-04-07/
LOCATION:Burg Eppstein\, Eppstein\, 65817
CATEGORIES:Kinder
ATTACH;FMTTYPE=image/jpeg:https://unser-taunus.de/wp-content/uploads/2026/03/Riese-e1772965579783.jpg
END:VEVENT
BEGIN:VEVENT
DTSTART;TZID=Europe/Berlin:20260406T140000
DTEND;TZID=Europe/Berlin:20260406T140000
DTSTAMP:20260420T033831
CREATED:20260302T065156Z
LAST-MODIFIED:20260302T073823Z
UID:10013668-1775484000-1775484000@unser-taunus.de
SUMMARY:Osterspaziergang "Das fürstliche Schloss ist ein wüstes Loch" (Ausgebucht)
DESCRIPTION:Auf Burg Eppstein zieht der Wind durch die Wohnräume. Die Heizkosten steigen immens. Das einst fürstliche Schloss in der Westhälfte der Burg ähnele eher einem wüsten Loch\, schimpft der hessische Beamte. Ihn treffen am Ostermontag die Teilnehmer:innen des Osterspaziergangs\, zu dem das Eppsteiner Burgmuseum alljährlich einlädt. Unter dem Titel „Von den Hessen verlassen“ geht die Zeitreise bis in das Jahr 1776. Vor 250 Jahren wurde Eppstein für die Landgrafschaft Hessen-Darmstadt bedeutungslos. Sie zog den Beamten von Burg Eppstein ab. Längst war die zum fürstlichen Schloss ausgebaute Westhälfte in einem baulich schlechten Zustand. Die Spaziergänger erleben eine Zeit\, die geprägt ist von Streitereien der Stadt- und Burgherren Kurmainz und Hessen-Darmstadt. Teilnehmer:innen treffen\, dank Unterstützung der Eppsteiner Burgschauspieler\, auch auf die Bewohner des kleinen Städtchens\, die zwei Herren dienen müssen. \nEine Anmeldung unter monika.rohde-reith@eppstein.de oder 06198 305 131 möglich. Erwachsenen zahlen neun Euro\, Kinder vier Euro. \nBild: Die Westhälfte der Burg wurde 1776 von den Hessen verlassen und verfiel. Kolorierte Umrissradierung\, 1817. Stadt- und Burgmuseum Eppstein.
URL:https://unser-taunus.de/veranstaltung/osterspaziergang-das-fuerstliche-schloss-ist-ein-wuestes-loch/
LOCATION:Treffpunkt Bahnhof Eppstein\, Am Stadtbahnhof 1.\, Eppstein\, 65817
ATTACH;FMTTYPE=image/jpeg:https://unser-taunus.de/wp-content/uploads/2026/03/Die-Westhaelfte-der-Burg-Eppstein.jpg
END:VEVENT
END:VCALENDAR